BEGIN:VCALENDAR
VERSION:2.0
PRODID:-//ChamberMaster//Event Calendar 2.0//EN
METHOD:PUBLISH
X-PUBLISHED-TTL:P3D
REFRESH-INTERVAL:P3D
CALSCALE:GREGORIAN
BEGIN:VEVENT
DTSTART:20180821T200000Z
DTEND:20180821T220000Z
X-MICROSOFT-CDO-ALLDAYEVENT:FALSE
SUMMARY:Ribbon Cutting and Open House - Grant Wood Elementary
DESCRIPTION:The Bettendorf Community School District will host a ribbon cutting ceremony and open house for the newly constructed Grant Wood Elementary School on Tuesday\, August 21 at 3 pm. The school is located at 1423 Hillsdale Dr. Bettendorf\, IA 52722\n\n \n\nNew Grant Wood Elementary School\n\nThe new 62\,500 SF\, $13.7M building is designed as a 3-section school replacing the old 37\,000 SF school built in 1960. \n\n \n\nThe new prekindergarten through 5th grade elementary school provides much-needed improvements in learning areas for all students. Classrooms are significantly larger\, breakout areas are located throughout the building\, and large areas have been designed for small group work as well as adult learning.  The glass spine of the building features a 21st-century conference area designed as a multipurpose space with natural light as well as a commons area\, learning stairs\, and library.\n\n \n\nThe combined cafeteria/gymnasium in the old school created conflicts with scheduling and limited community use. The new Grant Wood has a separate cafeteria and gym. The gym\, nearly twice as large as the old one\, not only expands the PE program\, but also welcomes community recreation programs.\n\n \n\nThe project was funded through Physical Plant & Equipment Levy (PPEL)\, SAVE (Secure an Advanced Vision for Education) Fund (State Sales/Use Tax for School Infrastructure) and the district's general fund. The construction team included Legat Architects\, Structural Engineer   IMEG\, Foodservice - Clevenger Associates\, Construction Manager - Estes Construction\, MEP Engineer - RTM Engineering Consultants\, Civil Engineer - McClure Engineering Associates.
X-ALT-DESC;FMTTYPE=text/html:<span style="font-family:arial\,sans-serif\;">The Bettendorf Community School District will host a ribbon cutting ceremony and open house for the newly constructed Grant Wood Elementary School on Tuesday\, August 21 at 3 pm. The school is located at 1423 Hillsdale Dr. Bettendorf\, IA 52722</span><br />\n&nbsp\;<br />\n<strong><span style="font-family:arial\,sans-serif\;">New Grant Wood Elementary School</span></strong><br />\n<span style="color:black\;"><span style="font-family:arial\,sans-serif\;">The new 62\,500 SF\, $13.7M building is designed as a 3-section school replacing the old 37\,000 SF school built in 1960. </span></span><br />\n&nbsp\;<br />\n<span style="font-family:arial\,sans-serif\;">The new prekindergarten through 5<sup>th</sup> grade elementary school provides much-needed improvements in learning areas for all students. Classrooms are significantly larger\, breakout areas are located throughout the building\, and large areas have been designed for small group work as well as adult learning.&nbsp\; The glass spine of the building features a 21<sup>st</sup>-century conference area designed as a multipurpose space<span style="color:black\;"> with natural light as well as a commons area\, learning stairs\, and library.</span></span><br />\n&nbsp\;<br />\n<span style="font-family:arial\,sans-serif\;">The combined cafeteria/gymnasium in the old school created conflicts with scheduling and limited community use. The new Grant Wood has a separate cafeteria and gym. The gym\, nearly twice as large as the old one\, not only expands the PE program\, but also welcomes community recreation programs.</span><br />\n&nbsp\;<br />\n<span style="color:black\;"><span style="font-family:arial\,sans-serif\;">The project was funded through Physical Plant &amp\; Equipment Levy (PPEL)\, SAVE (Secure an Advanced Vision for Education) Fund (<em>State Sales/Use Tax for School Infrastructure)</em> and the district&rsquo\;s general fund. The construction team included Legat Architects\, Structural Engineer &ndash\; IMEG\, Foodservice - Clevenger Associates\, Construction Manager - Estes Construction\, MEP Engineer - RTM Engineering Consultants\, Civil Engineer - McClure Engineering Associates. </span></span>
LOCATION:1423 Hillsdale Dr. Bettendorf\, IA 52722
UID:e.2843.13378
SEQUENCE:3
DTSTAMP:20260423T062135Z
URL:https://member.quadcitieschamber.com/events/details/ribbon-cutting-and-open-house-grant-wood-elementary-13378
END:VEVENT

END:VCALENDAR
