BEGIN:VCALENDAR
VERSION:2.0
PRODID:-//ChamberMaster//Event Calendar 2.0//EN
METHOD:PUBLISH
X-PUBLISHED-TTL:P3D
REFRESH-INTERVAL:P3D
CALSCALE:GREGORIAN
BEGIN:VEVENT
DTSTART:20171003T213000Z
DTEND:20171003T233000Z
X-MICROSOFT-CDO-ALLDAYEVENT:FALSE
SUMMARY:Ribbon Cutting and Open House - Honkamp Krueger & Co.\, PC
DESCRIPTION:Honkamp Krueger & Co.\, P.C. (HK) will be hosting a ribbon cutting at 4:30pm on October 3 for their newly renovated office located at 908 W. 35th Street in Davenport. An open house featuring tours of the new space\, refreshments and hors d'oeuvres will follow until 6:30pm. The expanded space will serve clients in the greater Quad Cities market.\n\n \n\n"We are excited to unveil our new space to our clients\, Quad Cities business partners\, family and friends\," Nick Naumann\, HK partner said. "This renovation and expansion will provide more room for our growing team and represents our dedication to expanding our presence in the Quad Cities."\n\n \n\nGuests are asked to RSVP to Christina at 563.386.2727\, cdrumm@honkamp.com or tinyurl.com/hk-openhouse. \n\n \n\nAbout Honkamp Krueger & Co.\, P.C.\n\nHonkamp Krueger & Co.\, P.C. (HK) is a Top 100 CPA and business consulting firm in the U.S. and the 3rd fastest-growing Midwest-based firm (Accounting Today\, 2017). HK has also been recognized as one of only 50 Best of the Best Accounting Firms in the U.S. (INSIDE Public Accounting\, 2015). The largest Iowa-based CPA firm\, HK is headquartered in Dubuque\, Iowa\, with additional locations in Cedar Rapids and Davenport\, Iowa\, Geneseo\, Ill.\, and Madison and Platteville\, Wis. In addition to the CPA practice\, HK includes HK Financial Services (HKFS)\, HK Payroll Services (HKP) and the HK Alliance\, which consists of CPA and business consulting firms throughout the U.S. sharing resources and best practices.
X-ALT-DESC;FMTTYPE=text/html:<span style="font-size:14px\;"><span style="font-family:arial\;">Honkamp Krueger &amp\; Co.\, P.C. (HK) will be hosting a ribbon cutting at 4:30pm on October 3 for their newly renovated office located at 908 W. 35<sup>th</sup> Street in Davenport. An open house featuring tours of the new space\, refreshments and hors d&rsquo\;oeuvres will follow until 6:30pm. The expanded space will serve clients in the greater Quad Cities market.<br />\n&nbsp\;<br />\n&ldquo\;We are excited to unveil our new space to our clients\, Quad Cities business partners\, family and friends\,&rdquo\; Nick Naumann\, HK partner said. &ldquo\;This renovation and expansion will provide more room for our growing team and represents our dedication to expanding our presence in the Quad Cities.&rdquo\;<br />\n&nbsp\;<br />\n<span style="color:windowtext\;">Guests are asked to RSVP to Christina at 563.386.2727\, </span><a href="mailto:cdrumm@honkamp.com"><span style="text-decoration-line:none\;"><span style="color:windowtext\;">cdrumm@honkamp.com</span></span></a><span style="color:windowtext\;"> or <a href="tinyurl.com/hk-openhouse">tinyurl.com/hk-openhouse</a>. </span><br />\n&nbsp\;<br />\n<strong>About Honkamp Krueger &amp\; Co.\, P.C.</strong><br />\nHonkamp Krueger &amp\; Co.\, P.C. (HK) is a Top 100 CPA and business consulting firm in the U.S. and the 3rd fastest-growing Midwest-based firm (Accounting Today\, 2017). HK has also been recognized as one of only 50 Best of the Best Accounting Firms in the U.S. (INSIDE Public Accounting\, 2015). The largest Iowa-based CPA firm\, HK is headquartered in Dubuque\, Iowa\, with additional locations in Cedar Rapids and Davenport\, Iowa\, Geneseo\, Ill.\, and Madison and Platteville\, Wis. In addition to the CPA practice\, HK includes HK Financial Services (HKFS)\, HK Payroll Services (HKP) and the HK Alliance\, which consists of CPA and business consulting firms throughout the U.S. sharing resources and best practices.</span></span>
LOCATION:Honkamp Krueger & Co.\, P.C. 908 W. 35th Street Davenport\, IA 52806
UID:e.2843.8551
SEQUENCE:3
DTSTAMP:20260423T210526Z
URL:https://member.quadcitieschamber.com/events/details/ribbon-cutting-and-open-house-honkamp-krueger-co-pc-8551
END:VEVENT

END:VCALENDAR
