BEGIN:VCALENDAR
VERSION:2.0
PRODID:-//ChamberMaster//Event Calendar 2.0//EN
METHOD:PUBLISH
X-PUBLISHED-TTL:P3D
REFRESH-INTERVAL:P3D
CALSCALE:GREGORIAN
BEGIN:VEVENT
DTSTART:20180118T220000Z
DTEND:20180119T000000Z
X-MICROSOFT-CDO-ALLDAYEVENT:FALSE
SUMMARY:Ribbon Cutting and Open House - IWLC (Iowa Women Lead Change - Quad Cities Region)
DESCRIPTION:IWLC (Iowa Women Lead Change - Quad Cities Region)\, LLC\, 2550 Middle Rd. (Bettendorf Northwest Bank building  - 3rd floor) Bettendorf\, IA 52722\, will host a ribbon cutting ceremony on Thursday\, January 18 at 4:00pm to celebrate their new office space and expansion into the Quad Cities.\n\nAn open house will follow until 6pm.\n\n \n\nIn February 2017 IWLC aligned with The Women's Connection. IWLC long admired the work and mission of The Women's Connection and this alignment was not only timely\, but necessary. Both organizations focus entirely on women's leadership and with this alignment\, IWLC Quad Cities can expand the scope and reach of development programming for the local Quad Cities women leaders and organizations. \n\nIowa Women Lead Change (IWLC) is the state's premier leadership organization for women\, offering comprehensive leadership resources including events featuring prominent speakers\, statewide networking opportunities\, public/private initiatives like the EPIC Corporate Challenge and other important services to advance women's leadership in all aspects of their lives.\n\n \n\nClick here to learn more about IWLC Quad Cities and their upcoming events.
X-ALT-DESC;FMTTYPE=text/html:<span style="font-size:14px\;"><span style="font-family:arial\;">IWLC (Iowa Women Lead Change - Quad Cities Region)\, LLC\, 2550 Middle Rd. (Bettendorf Northwest Bank building&nbsp\; - 3rd floor) Bettendorf\, IA 52722\, will host a ribbon cutting ceremony on Thursday\, January 18 at 4:00pm to celebrate their new office space and expansion into the Quad Cities.<br />\nAn open house will follow until 6pm.<br />\n&nbsp\;<br />\n<span style="background-image:initial\;background-position:initial\;background-size:initial\;background-repeat:initial\;background-attachment:initial\;background-origin:initial\;background-clip:initial\;">In February 2017 IWLC aligned with The Women&#39\;s Connection. IWLC long admired the work and mission of The Women&#39\;s Connection and this alignment was not only timely\, but necessary. Both organizations focus entirely on women&#39\;s leadership and with this alignment\, IWLC Quad Cities can expand the scope and reach of development programming for the local Quad Cities women leaders and organizations.&nbsp\;</span><br />\n<span style="background-image:initial\;background-position:initial\;background-size:initial\;background-repeat:initial\;background-attachment:initial\;background-origin:initial\;background-clip:initial\;">Iowa Women Lead Change (IWLC) is the state&rsquo\;s premier leadership organization for women\, offering comprehensive leadership resources including events featuring prominent speakers\, statewide networking opportunities\, public/private initiatives like the EPIC Corporate Challenge and other important services to advance women&rsquo\;s leadership in all aspects of their lives.</span><br />\n&nbsp\;<br />\n<a href="https://www.facebook.com/IowaWomenLeadChangeQuadCities/">Click here</a> to learn more about IWLC Quad Cities and their upcoming events.&nbsp\;</span></span>
LOCATION:IWLC (Iowa Women Lead Change - Quad Cities Region)\, LLC 2550 Middle Rd. (Bettendorf Northwest Bank building - 3rd floor) Bettendorf\, IA 52722
UID:e.2843.9960
SEQUENCE:3
DTSTAMP:20260423T170052Z
URL:https://member.quadcitieschamber.com/events/details/ribbon-cutting-and-open-house-iwlc-iowa-women-lead-change-quad-cities-region-9960
END:VEVENT

END:VCALENDAR
