BEGIN:VCALENDAR
VERSION:2.0
PRODID:-//ChamberMaster//Event Calendar 2.0//EN
METHOD:PUBLISH
X-PUBLISHED-TTL:P3D
REFRESH-INTERVAL:P3D
CALSCALE:GREGORIAN
BEGIN:VEVENT
DTSTART:20180830T150000Z
DTEND:20180830T210000Z
X-MICROSOFT-CDO-ALLDAYEVENT:FALSE
SUMMARY:Ribbon Cutting and Open House - Lincoln Office
DESCRIPTION:Lincoln Office will host a ribbon cutting ceremony on Thursday\, August 30 at 10am to celebrate the grand opening of their new showroom location at 1601 River Dr. Suite 306 Moline\, IL 61265.\n\nAn open house will take place until 4pm.See the newest designs in office space\, get great ideas\, meet their team and enjoy refreshments.
X-ALT-DESC;FMTTYPE=text/html:<br />\n<span style="font-family:arial\,sans-serif\;">Lincoln Office will host a ribbon cutting ceremony on Thursday\, August 30 at 10am to celebrate the grand opening of their new showroom location at 1601 River Dr. Suite 306 Moline\, IL 61265.</span><br />\n<span style="font-family:arial\,sans-serif\;">An open house will take place until 4pm.See the newest designs in office space\, get great ideas\, meet their team and enjoy refreshments. </span>
LOCATION:1601 River Dr. Suite 306 (3rd floor) Moline\, IL 61265.
UID:e.2843.13398
SEQUENCE:3
DTSTAMP:20260423T080247Z
URL:https://member.quadcitieschamber.com/events/details/ribbon-cutting-and-open-house-lincoln-office-13398
END:VEVENT

END:VCALENDAR
