BEGIN:VCALENDAR
VERSION:2.0
PRODID:-//ChamberMaster//Event Calendar 2.0//EN
METHOD:PUBLISH
X-PUBLISHED-TTL:P3D
REFRESH-INTERVAL:P3D
CALSCALE:GREGORIAN
BEGIN:VEVENT
DTSTART:20171026T213000Z
DTEND:20171026T230000Z
X-MICROSOFT-CDO-ALLDAYEVENT:FALSE
SUMMARY:Ribbon Cutting and Open House - Moline Foundation
DESCRIPTION:Join us on Thursday\, October 26 at 4:30pm as we celebrate Moline Foundation's new location and 65th Anniversary! Their new location is 1601 River Dr. Suite 210 Moline\, IL 61265.\n\n \n\n*Located on the 2nd floor of the RiverStation building (same building as the Chamber office!) on River Dr. in Moline.\n\n \n\nAbout Moline Foundation: \n\nThe Moline Foundation is a community foundation which provides grants to benefit health\, human services\, education\, community development\, the arts and other charitable organizations which help the citizens of Moline and the surrounding area\, including the Quad Cities. The Moline Foundation encourages thoughtful giving from donors for stronger communities and better lives. The Moline Foundation receives and administers charitable gifts in Scott County\, Iowa and Rock Island\, Henry\, Mercer\, Warren\, Henderson and McDonough counties in Illinois.
X-ALT-DESC;FMTTYPE=text/html:<span style="font-size:14px\;"><span style="font-family:arial\;">Join us on Thursday\, October 26 at 4:30pm as we celebrate Moline Foundation&rsquo\;s new location and 65<sup>th</sup> Anniversary! Their new location is 1601 River Dr. Suite 210 Moline\, IL 61265.<br />\n&nbsp\;<br />\n*Located on the 2<sup>nd</sup> floor of the RiverStation building (same building as the Chamber office!) on River Dr. in Moline.<br />\n&nbsp\;<br />\n<strong><u>About Moline Foundation: </u></strong><br />\nThe Moline Foundation is a community foundation which provides grants to benefit health\, human services\, education\, community development\, the arts and other charitable organizations which help the citizens of Moline and the surrounding area\, including the Quad Cities. The Moline Foundation encourages thoughtful giving from donors for stronger communities and better lives. The Moline Foundation receives and administers charitable gifts in Scott County\, Iowa and Rock Island\, Henry\, Mercer\, Warren\, Henderson and McDonough counties in Illinois.</span></span>
LOCATION:1601 River Dr. Suite 210 Moline\, IL 61265. *Located on the 2nd floor of the RiverStation building (same building as the Chamber office\, Bass Street Chophouse and the QC Convention & Visitors Bureau!) on River Dr. in Moline.
UID:e.2843.8593
SEQUENCE:3
DTSTAMP:20260423T221346Z
URL:https://member.quadcitieschamber.com/events/details/ribbon-cutting-and-open-house-moline-foundation-8593
END:VEVENT

END:VCALENDAR
