BEGIN:VCALENDAR
VERSION:2.0
PRODID:-//ChamberMaster//Event Calendar 2.0//EN
METHOD:PUBLISH
X-PUBLISHED-TTL:P3D
REFRESH-INTERVAL:P3D
CALSCALE:GREGORIAN
BEGIN:VEVENT
DTSTART:20180905T200000Z
DTEND:20180906T000000Z
X-MICROSOFT-CDO-ALLDAYEVENT:FALSE
SUMMARY:Ribbon Cutting and Open House - My Place Hotel
DESCRIPTION:My Place Hotel will host a ribbon cutting ceremony on Wednesday\, September 5 at 4pm to celebrate their grand opening.\n\n \n\nAn open house including hors d'ourves\, tours\, and door prizes will take place 3pm   7pm.\n\n\n\nBrand New My Place Hotel! \n\nYour new "Home away from Home!"\n\nNo need to worry about cramped hotel rooms for your long-term stays. We have all the comforts of home for a relaxing and comfortable visit no matter how long your stay is!\n\nIn our well-appointed rooms you will find a full-size refrigerator for you to stock with all your favorite foods and drink! No more ordering out every night\, we have a cooktop right in your room for you to cook what you want when you want it! Every room also comes equipped with a toaster and a 12-cup coffee pot- don't want to make coffee\, no worries\, just come down to the lobby\, we have made it for you!\n\nNeed to bring Fido? We are pet Friendly! \n\nAfter your hard day of work\, fall into our wonderful beds with great pillows and the most luxurious sheets you will ever feel! Don't forget our breakfast in bed program   For just 4.49 you can pick what you want from our menu and we will deliver it to your room each night\, so you can make it when you want it! No more having to worry about making it to breakfast on time or it not being open before you have to leave for work. Didn't bring pans or plates? Not a problem! Our My Store is fully stocked with everything you need.\n\nConveniently located right off I74 with shopping\, numerous restaurants\, Trinity Hospital\, Walgreens\, HyVee grocery\, tanning\, Salon Aria and much more all within 1 mile from the Hotel!\n\nCome in and check out your new "Home away from Home" for all your travel needs!
X-ALT-DESC;FMTTYPE=text/html:<br />\n<span style="font-family:arial\;"><span style="font-size:14px\;">My Place Hotel will host a ribbon cutting ceremony on Wednesday\, September 5 at 4pm to celebrate their grand opening.<br />\n&nbsp\;<br />\nAn open house including hors d&rsquo\;ourves\, tours\, and door prizes will take place 3pm &ndash\; 7pm.<br />\n<br />\nBrand New My Place Hotel!&nbsp\;<br />\nYour new &ldquo\;Home away from Home!&rdquo\;<br />\nNo need to worry about cramped hotel rooms for your long-term stays. We have all the comforts of home for a relaxing and comfortable visit no matter how long your stay is!<br />\nIn our well-appointed rooms you will find a full-size refrigerator for you to stock with all your favorite foods and drink! No more ordering out every night\, we have a cooktop right in your room for you to cook what you want when you want it! Every room also comes equipped with a toaster and a 12-cup coffee pot- don&rsquo\;t want to make coffee\, no worries\, just come down to the lobby\, we have made it for you!<br />\nNeed to bring Fido? We are pet Friendly!&nbsp\;<br />\nAfter your hard day of work\, fall into our wonderful beds with great pillows and the most luxurious sheets you will ever feel! Don&rsquo\;t forget our breakfast in bed program &ndash\; For just 4.49 you can pick what you want from our menu and we will deliver it to your room each night\, so you can make it when you want it! No more having to worry about making it to breakfast on time or it not being open before you have to leave for work. Didn&rsquo\;t bring pans or plates? Not a problem! Our My Store is fully stocked with everything you need.<br />\nConveniently located right off I74 with shopping\, numerous restaurants\, Trinity Hospital\, Walgreens\, HyVee grocery\, tanning\, Salon Aria and much more all within 1 mile from the Hotel!<br />\nCome in and check out your new &ldquo\;Home away from Home&rdquo\; for all your travel needs!</span></span>
LOCATION:4653 Progress Drive Davenport\, IA 52807
UID:e.2843.13414
SEQUENCE:3
DTSTAMP:20260423T043659Z
URL:https://member.quadcitieschamber.com/events/details/ribbon-cutting-and-open-house-my-place-hotel-13414
END:VEVENT

END:VCALENDAR
