BEGIN:VCALENDAR
VERSION:2.0
PRODID:-//ChamberMaster//Event Calendar 2.0//EN
METHOD:PUBLISH
X-PUBLISHED-TTL:P3D
REFRESH-INTERVAL:P3D
CALSCALE:GREGORIAN
BEGIN:VEVENT
DTSTART:20171219T180000Z
DTEND:20171219T230000Z
X-MICROSOFT-CDO-ALLDAYEVENT:FALSE
SUMMARY:Ribbon Cutting and Open House - Novel Nail Studio
DESCRIPTION:Novel Nail Studio\, 4810 Elmore Ave. Suite G Davenport\, IA 52807\, will host a ribbon cutting ceremony on Tuesday\, December 19 at 12:00pm to celebrate their grand opening. An open house with cocktails and appetizers will take place 12pm   5pm.
X-ALT-DESC;FMTTYPE=text/html:<span style="font-size:14px\;"><span style="font-family:arial\;">Novel Nail Studio\, 4810 Elmore Ave. Suite G Davenport\, IA 52807\, will host a ribbon cutting ceremony on Tuesday\, December 19 at 12:00pm to celebrate their grand opening. <span style="background-image:initial\;background-position:initial\;background-size:initial\;background-repeat:initial\;background-attachment:initial\;background-origin:initial\;background-clip:initial\;">An open house with cocktails and appetizers will take place 12pm &ndash\; 5pm.&nbsp\;</span></span></span>
LOCATION:Novel Nail Studio 4810 Elmore Ave. Suite G Davenport\, IA 52807
UID:e.2843.9906
SEQUENCE:3
DTSTAMP:20260423T182848Z
URL:https://member.quadcitieschamber.com/events/details/ribbon-cutting-and-open-house-novel-nail-studio-9906
END:VEVENT

END:VCALENDAR
