BEGIN:VCALENDAR
VERSION:2.0
PRODID:-//ChamberMaster//Event Calendar 2.0//EN
METHOD:PUBLISH
X-PUBLISHED-TTL:P3D
REFRESH-INTERVAL:P3D
CALSCALE:GREGORIAN
BEGIN:VEVENT
DTSTART:20180504T210000Z
DTEND:20180504T230000Z
X-MICROSOFT-CDO-ALLDAYEVENT:FALSE
SUMMARY:Ribbon Cutting and Open House - Phoenix Corporation of the Quad Cities
DESCRIPTION:Phoenix Corporation of the Quad Cities\, 1006 Rosehill Rd. Port Byron\, IL 612754\, will host a ribbon cutting ceremony on Friday\, May 4 at 4:00pm in celebration of their 30th anniversary and their new location! An open house\, including refreshments\, will follow. \n\n \n\nPhoenix's hallmark projects in the past year have been subcontractor on the Savanna/Subula Bridge\, Erosion Control/Gabion Baskets on Hero Street in Silvis\, and the NEW I-74 Bridge Corridor. Phoenix received Subcontractor of the year by the Illinois Department of Transportation for the work completed on Hero Street and recently received DBE Contractor of the Year for 2017-2018.
X-ALT-DESC;FMTTYPE=text/html:<span style="font-family:arial\,sans-serif\;">Phoenix Corporation of the Quad Cities\, 1006 Rosehill Rd. Port Byron\, IL 612754\, will host a ribbon cutting ceremony on Friday\, May 4 at 4:00pm in celebration of their 30<sup>th</sup> anniversary and their new location! An open house\, including refreshments\, will follow. </span><br />\n&nbsp\;<br />\n<span style="font-family:arial\,sans-serif\;"><span style="font-size:11.0pt\;">Phoenix&#39\;s hallmark projects in the past year have been subcontractor on the Savanna/Subula Bridge\, Erosion Control/Gabion Baskets on Hero Street in Silvis\, and the NEW I-74 Bridge Corridor. Phoenix received Subcontractor of the year by the Illinois Department of Transportation for the work completed on Hero Street and recently received DBE Contractor of the Year for 2017-2018.</span></span>
LOCATION:Phoenix Corporation of the Quad Cities 1006 Rosehill Rd. Port Byron\, IL 612754
UID:e.2843.13178
SEQUENCE:3
DTSTAMP:20260423T111848Z
URL:https://member.quadcitieschamber.com/events/details/ribbon-cutting-and-open-house-phoenix-corporation-of-the-quad-cities-13178
END:VEVENT

END:VCALENDAR
