BEGIN:VCALENDAR
VERSION:2.0
PRODID:-//ChamberMaster//Event Calendar 2.0//EN
METHOD:PUBLISH
X-PUBLISHED-TTL:P3D
REFRESH-INTERVAL:P3D
CALSCALE:GREGORIAN
BEGIN:VEVENT
DTSTART:20180801T220000Z
DTEND:20180802T000000Z
X-MICROSOFT-CDO-ALLDAYEVENT:FALSE
SUMMARY:Ribbon Cutting and Open House - Quad Cities Social Dancing (QC SoDa)
DESCRIPTION:Quad Cities Social Dancing (QC SoDa)\, 4500 16th St. Moline\, IL 61265\, will host a ribbon cutting ceremony on Wednesday\, August 1 at 5:30pm in celebration of their grand re-opening at their new location inside SouthPark Mall! \n\n \n\n5:00  - Open house and hors d'oeuvres by Qdoba Catering\n\n5:30 -  Ribbon Cutting\n\n6:00 - Open Music for Dancing\n\n \n\n*Located in the main court of SouthPark Mall. Entering in near Younkers or JC Penney will take you to the main court.
X-ALT-DESC;FMTTYPE=text/html:<br />\n<span style="font-family:arial\,sans-serif\;">Quad Cities Social Dancing (QC SoDa)\, 4500 16th St. Moline\, IL 61265\, will host a ribbon cutting ceremony on Wednesday\, August 1 at 5:30pm in celebration of their grand re-opening at their new location inside SouthPark Mall! </span><br />\n&nbsp\;<br />\n<span style="font-family:arial\,sans-serif\;">5:00&nbsp\; - Open house and hors d&rsquo\;oeuvres by Qdoba Catering</span><br />\n<span style="font-family:arial\,sans-serif\;">5:30 -&nbsp\; Ribbon Cutting</span><br />\n<span style="font-family:arial\,sans-serif\;">6:00 - Open Music for Dancing</span><br />\n&nbsp\;<br />\n<span style="color:red\;"><span style="font-family:arial\,sans-serif\;">*Located in the main court of SouthPark Mall. Entering in near Younkers or JC Penney will take you to the main court. </span></span><br />\n&nbsp\;
LOCATION:Quad Cities Social Dancing (QC SoDa) 4500 16th St. Moline\, IL 61265 *Located in the main court of SouthPark Mall. Entering in near Younkers or JC Penney will take you to the main court.
UID:e.2843.13374
SEQUENCE:3
DTSTAMP:20260423T062421Z
URL:https://member.quadcitieschamber.com/events/details/ribbon-cutting-and-open-house-quad-cities-social-dancing-qc-soda-13374
END:VEVENT

END:VCALENDAR
