BEGIN:VCALENDAR
VERSION:2.0
PRODID:-//ChamberMaster//Event Calendar 2.0//EN
METHOD:PUBLISH
X-PUBLISHED-TTL:P3D
REFRESH-INTERVAL:P3D
CALSCALE:GREGORIAN
BEGIN:VEVENT
DTSTART:20171107T223000Z
DTEND:20171108T000000Z
X-MICROSOFT-CDO-ALLDAYEVENT:FALSE
SUMMARY:Ribbon Cutting and Open House- Radisson on John Deere Commons
DESCRIPTION:Radisson on John Deere Commons\, 1415 River Dr. Moline\, IL 61265\, will host a ribbon cutting ceremony on Tuesday\, November 7 at 4:30pm to celebrate their recent $3 million renovation.\n\nAn open house will follow until 6pm.
X-ALT-DESC;FMTTYPE=text/html:<span style="font-size:14px\;"><span style="font-family:arial\;">Radisson on John Deere Commons\, 1415 River Dr. Moline\, IL 61265\, will host a ribbon cutting ceremony on Tuesday\, November 7 at 4:30pm to celebrate their recent $3 million renovation.<br />\nAn open house will follow until 6pm.</span></span>
LOCATION:Radisson on John Deere Commons 1415 River Dr. Moline\, IL 61265
UID:e.2843.8605
SEQUENCE:3
DTSTAMP:20260423T210357Z
URL:https://member.quadcitieschamber.com/events/details/ribbon-cutting-and-open-house-radisson-on-john-deere-commons-8605
END:VEVENT

END:VCALENDAR
