BEGIN:VCALENDAR
VERSION:2.0
PRODID:-//ChamberMaster//Event Calendar 2.0//EN
METHOD:PUBLISH
X-PUBLISHED-TTL:P3D
REFRESH-INTERVAL:P3D
CALSCALE:GREGORIAN
BEGIN:VEVENT
DTSTART:20180504T230000Z
DTEND:20180505T020000Z
X-MICROSOFT-CDO-ALLDAYEVENT:FALSE
SUMMARY:Ribbon Cutting and Open House - Spotlight Theatre and Event Center\; Purpose.
DESCRIPTION:Spotlight Theatre and Event Center and Purpose\, 1800 7th Avenue Moline\, IL 61265\, will host a ribbon cutting ceremony on Friday\, May 4 at 6:00pm to celebrate their grand opening! An open house will follow until 9pm. At 7:15\, the theatre will do a few short productions for approximately 1 hour. The opening act is very cool! This event is open to the public to tour and attend. There will also be food and a cash bar. \n\n*Spotlight Theatre and Purpose are 2 separate businesses operating in the same building. \n\n \n\nClick here for more information about Spotlight Theatre. \n\n \n\nClick here for more information about Purpose.\n\n\n\n\n\n\n\n**Directions: The ribbon cutting will be held at the front of the building closest to the 7th avenue and 18th street intersection\, directly off of the 7th avenue I74 exit. Parking is available in the following locations:   The parking lot on the east side of the building has approximately (120 spots)   Off Street Parking is available on 18th Street and 8th Avenue   Bethany Homes building located at 1830 6th Avenue (50 spots)   Christ Church Cathedral 1717 8th Avenue (28 spot)   The Parking Ramp located at 17th Street and 6th Avenue - There will be a free shuttle running from this parking lot
X-ALT-DESC;FMTTYPE=text/html:<span style="font-family:arial\,sans-serif\;">Spotlight Theatre and Event Center and Purpose\, 1800 7th Avenue Moline\, IL 61265\, will host a ribbon cutting ceremony on Friday\, May 4 at 6:00pm to celebrate their grand opening! An open house will follow until 9pm. At 7:15\, the theatre will do a few short productions for approximately 1 hour. The opening act is very cool! This event is open to the public to tour and attend. There will also be food and a cash bar. </span><br />\n<span style="font-family:arial\,sans-serif\;">*Spotlight Theatre and Purpose are 2 separate businesses operating in the same building. </span><br />\n&nbsp\;<br />\n<span style="font-family:arial\,sans-serif\;"><a href="https://www.thespotlighttheatreqc.com">Click here</a> for more information about Spotlight Theatre. </span><br />\n&nbsp\;<br />\n<span style="font-family:arial\,sans-serif\;"><a href="https://www.facebook.com/purposeqc/">Click here</a> for more information about Purpose.</span><br />\n<br />\n<br />\n<br />\n<strong><span style="color:red\;"><span style="font-family:arial\,sans-serif\;"><span style="font-size:11.0pt\;">**Directions:</span></span></span></strong><span style="font-family:arial\,sans-serif\;"><span style="font-size:11.0pt\;"> The ribbon cutting will be held at the front of the building closest to the 7th avenue and 18th street intersection\, directly off of the 7th avenue I74 exit. Parking is available in the following locations: &bull\; The parking lot on the east side of the building has approximately (120 spots) &bull\; Off Street Parking is available on 18th Street and 8th Avenue &bull\; Bethany Homes building located at 1830 6th Avenue (50 spots) &bull\; Christ Church Cathedral 1717 8th Avenue (28 spot) &bull\; The Parking Ramp located at 17th Street and 6th Avenue - There will be a free shuttle running from this parking lot</span></span>
LOCATION:Spotlight Theatre and Event Center and Purpose. 1800 7th Avenue Moline\, IL 61265\,
UID:e.2843.13207
SEQUENCE:3
DTSTAMP:20260423T110555Z
URL:https://member.quadcitieschamber.com/events/details/ribbon-cutting-and-open-house-spotlight-theatre-and-event-center-purpose-13207
END:VEVENT

END:VCALENDAR
