BEGIN:VCALENDAR
VERSION:2.0
PRODID:-//ChamberMaster//Event Calendar 2.0//EN
METHOD:PUBLISH
X-PUBLISHED-TTL:P3D
REFRESH-INTERVAL:P3D
CALSCALE:GREGORIAN
BEGIN:VEVENT
DTSTART:20171114T223000Z
DTEND:20171115T003000Z
X-MICROSOFT-CDO-ALLDAYEVENT:FALSE
SUMMARY:Ribbon Cutting and Open House - The Renwick Mansion
DESCRIPTION:The Renwick Mansion\, 901 Tremont Ave. Davenport\, IA 52803\, will host a ribbon cutting ceremony on Tuesday\, November 14 at 4:30pm to celebrate their grand re-opening under new ownership. An open house with light snacks\, refreshments\, and tours will follow until 6:30pm.\n\n \n\nThe Renwick Mansion sits on 4 acres of land in the heart of Davenport. This Italian Revival Villa is an elegant venue with the space and parking to host large weddings and events. This mansion is on the national registry of historic homes and offers a historic setting complete with ornate woodwork\, 8 marble fireplaces\, 13 foot ceilings and elegant fixtures and details throughout the property. We offer the rental of 8 bedrooms and stock a full bar to accommodate the needs of guests. The Renwick Mansion is one of Davenport's most unique and historic event venues.
X-ALT-DESC;FMTTYPE=text/html:<span style="font-size:14px\;"><span style="font-family:arial\;">The Renwick Mansion\, 901 Tremont Ave. Davenport\, IA 52803\, will host a ribbon cutting ceremony on Tuesday\, November 14 at 4:30pm to celebrate their grand re-opening under new ownership. An open house with light snacks\, refreshments\, and tours will follow until 6:30pm.<br />\n&nbsp\;<br />\nThe Renwick Mansion sits on 4 acres of land in the heart of Davenport. This Italian Revival Villa is an elegant venue with the space and parking to host large weddings and events. This mansion is on the national registry of historic homes and offers a historic setting complete with ornate woodwork\, 8 marble fireplaces\, 13 foot ceilings and elegant fixtures and details throughout the property. We offer the rental of 8 bedrooms and stock a full bar to accommodate the needs of guests. The Renwick Mansion is one of Davenport&#39\;s most unique and historic event venues.</span></span>
LOCATION:The Renwick Mansion 901 Tremont Ave. Davenport\, IA 52803
UID:e.2843.8619
SEQUENCE:3
DTSTAMP:20260423T195322Z
URL:https://member.quadcitieschamber.com/events/details/ribbon-cutting-and-open-house-the-renwick-mansion-8619
END:VEVENT

END:VCALENDAR
