BEGIN:VCALENDAR
VERSION:2.0
PRODID:-//ChamberMaster//Event Calendar 2.0//EN
METHOD:PUBLISH
X-PUBLISHED-TTL:P3D
REFRESH-INTERVAL:P3D
CALSCALE:GREGORIAN
BEGIN:VEVENT
DTSTART:20170927T210000Z
DTEND:20170928T010000Z
X-MICROSOFT-CDO-ALLDAYEVENT:FALSE
SUMMARY:Ribbon Cutting and Open House - TRUE Mortgage Lending\, a Division of Flanagan State Bank
DESCRIPTION:TRUE Mortgage Lending\, a Division of Flanagan State Bank\, 3625 Utica Ridge Rd. Suite E Bettendorf\, IA 52722\, will host a ribbon cutting ceremony on Wednesday\, September 27 at 4pm to celebrate their new location. An open house will follow until 8pm.\n\n \n\n*Located on the East side of Utica Ridge Rd. between Spruce Hills Drive and Tanglefoot Lane.
X-ALT-DESC;FMTTYPE=text/html:<span style="font-size:14px\;"><span style="font-family:arial\;">TRUE Mortgage Lending\, a Division of Flanagan State Bank\, 3625 Utica Ridge Rd. Suite E Bettendorf\, IA 52722\, will host a ribbon cutting ceremony on Wednesday\, September 27 at 4pm to celebrate their new location. An open house will follow until 8pm.<br />\n&nbsp\;<br />\n<span style="color:red\;">*Located on the East side of Utica Ridge Rd. between Spruce Hills Drive and Tanglefoot Lane.&nbsp\;</span></span></span>
LOCATION:3625 Utica Ridge Rd. Suite E Bettendorf\, IA 52722 *Located on the East side of Utica Ridge Rd. between Spruce Hills Drive and Tanglefoot Lane.
UID:e.2843.8556
SEQUENCE:3
DTSTAMP:20260423T221107Z
URL:https://member.quadcitieschamber.com/events/details/ribbon-cutting-and-open-house-true-mortgage-lending-a-division-of-flanagan-state-bank-8556
END:VEVENT

END:VCALENDAR
