BEGIN:VCALENDAR
VERSION:2.0
PRODID:-//ChamberMaster//Event Calendar 2.0//EN
METHOD:PUBLISH
X-PUBLISHED-TTL:P3D
REFRESH-INTERVAL:P3D
CALSCALE:GREGORIAN
BEGIN:VEVENT
DTSTART:20180907T160000Z
DTEND:20180907T170000Z
X-MICROSOFT-CDO-ALLDAYEVENT:FALSE
SUMMARY:Ribbon Cutting - Anytime Fitness
DESCRIPTION:Anytime Fitness\, 229 Brady St. Suite 100 Davenport\, Iowa 52801\, will host a ribbon cutting ceremony and open house on Friday\, September 7 at 11:00am to celebrate their grand opening.\n\n \n\nVisit their Facebook page for more details - https://www.facebook.com/AnytimeDavenportIA/
X-ALT-DESC;FMTTYPE=text/html:<br />\n<span style="font-size:14px\;"><span style="font-family:arial\;">Anytime Fitness\, 229 Brady St. Suite 100 Davenport\, Iowa 52801\, will host a ribbon cutting ceremony and open house on Friday\, September 7 at 11:00am to celebrate their grand opening.<br />\n&nbsp\;<br />\nVisit their Facebook page for more details - <a href="https://www.facebook.com/AnytimeDavenportIA/">https://www.facebook.com/AnytimeDavenportIA/</a></span></span><br />\n&nbsp\;
LOCATION:Anytime Fitness 229 Brady St. Suite 100 Davenport\, Iowa 52801
UID:e.2843.13416
SEQUENCE:3
DTSTAMP:20260423T062244Z
URL:https://member.quadcitieschamber.com/events/details/ribbon-cutting-anytime-fitness-13416
END:VEVENT

END:VCALENDAR
