BEGIN:VCALENDAR
VERSION:2.0
PRODID:-//ChamberMaster//Event Calendar 2.0//EN
METHOD:PUBLISH
X-PUBLISHED-TTL:P3D
REFRESH-INTERVAL:P3D
CALSCALE:GREGORIAN
BEGIN:VEVENT
DTSTART:20171027T220000Z
DTEND:20171027T223000Z
X-MICROSOFT-CDO-ALLDAYEVENT:FALSE
SUMMARY:Ribbon Cutting - Armored Gardens
DESCRIPTION:Armored Gardens\, 315 Pershing Ave. Davenport\, IA 52801\, will host a ribbon cutting ceremony on Friday\, October 27 at 5pm to celebrate their grand opening.\n\n \n\nArmored Gardens is a fast casual barbecue concept featuring 100 draft beers\, a private beer garden\, and much more. Click here to follow updates on their FaceBook page!
X-ALT-DESC;FMTTYPE=text/html:<span style="font-family:arial\;"><span style="font-size:14px\;">Armored Gardens\, 315 Pershing Ave. Davenport\, IA 52801\, will host a ribbon cutting ceremony on Friday\, October 27 at 5pm to celebrate their grand opening.<br />\n&nbsp\;<br />\n<span style="background-image:initial\;background-position:initial\;background-size:initial\;background-repeat:initial\;background-attachment:initial\;background-origin:initial\;background-clip:initial\;">Armored Gardens is a fast casual barbecue concept featuring 100 draft beers\, a private beer garden\, and much more. <a href="https://www.facebook.com/armoredgardens/">Click here</a> to follow updates on their FaceBook page!&nbsp\;</span></span></span>
LOCATION:Armored Gardens 315 Pershing Ave. Davenport\, IA 52801
UID:e.2843.8599
SEQUENCE:3
DTSTAMP:20260423T210250Z
URL:https://member.quadcitieschamber.com/events/details/ribbon-cutting-armored-gardens-8599
END:VEVENT

END:VCALENDAR
