BEGIN:VCALENDAR
VERSION:2.0
PRODID:-//ChamberMaster//Event Calendar 2.0//EN
METHOD:PUBLISH
X-PUBLISHED-TTL:P3D
REFRESH-INTERVAL:P3D
CALSCALE:GREGORIAN
BEGIN:VEVENT
DTSTART:20180509T210000Z
DTEND:20180509T213000Z
X-MICROSOFT-CDO-ALLDAYEVENT:FALSE
SUMMARY:Ribbon Cutting - Ascentra Credit Union
DESCRIPTION:In celebration of the completion of the remodel of the Ascentra Credit Union branch at 1710 W. 3rd St. in Davenport\, the community is invited to a ribbon cutting ceremony on Wednesday\, May 9 at 4 p.m.  \n\n\n\n \n\nSince November 2017\, enhancements have been made that feature additional office space for member privacy\, a larger and more open floor plan\, a restroom on the first floor\, a new drive-up ATM\, and overall ambiance consistent with other Ascentra facilities.  The credit union partnered with Russell Construction on the project.\n\n \n\n"Our members love the renovations so far and love seeing us investing money into making improvements\, especially on the West end\," said Carrie Hutchins\, Ascentra Branch Manager.  "They love how bright and inviting the new design is\, and can't wait for it all to be finished."\n\n \n\nThe Davenport branch has served Ascentra's membership well over the years\, but it is fair to say it was in dire need of updating.   The location was purchased in 2001 from Wells Fargo after they merged in Brenton Bank and pulled out of serving this underserved area of the city.    \n\n \n\n"The remodel of this branch shows that we're committed to our membership and reinvesting in the community\," said Dale Owen\, Ascentra President and CEO.  "We understand the importance of serving this area and look forward to being here for decades to come." \n\n \n\nAbout Ascentra:                                                                           \n\nFounded in 1950\, Ascentra Credit Union\, is Iowa's premier credit union with more than $420 million in assets and 10 branches serving the communities of Bettendorf\, Clinton\, Davenport\, Le Claire\, Muscatine\, Iowa and Moline\, Ill.  Learn more about Ascentra Credit Union at ascentra.org.  Follow Ascentra on Facebook\, Twitter @ascentra\, Instagram @ascentracu and on YouTube.
X-ALT-DESC;FMTTYPE=text/html:<span style="font-family:arial\,sans-serif\;">In celebration of the completion of the remodel of the Ascentra Credit Union branch at 1710 W. 3<sup>rd</sup> St. in Davenport\, the community is invited to a ribbon cutting ceremony on Wednesday\, May 9 at 4 p.m.&nbsp\; </span><br />\n<br />\n&nbsp\;<br />\n<span style="font-family:arial\,sans-serif\;">Since November 2017\, enhancements have been made that feature additional office space for member privacy\, a larger and more open floor plan\, a restroom on the first floor\, a new drive-up ATM\, and overall ambiance consistent with other Ascentra facilities. &nbsp\;The credit union partnered with Russell Construction on the project.</span><br />\n&nbsp\;<br />\n<span style="font-family:arial\,sans-serif\;">&ldquo\;Our members love the renovations so far and love seeing us investing money into making improvements\, especially on the West end\,&rdquo\; said Carrie Hutchins\, Ascentra Branch Manager.&nbsp\; &ldquo\;They love how bright and inviting the new design is\, and can&rsquo\;t wait for it all to be finished.&rdquo\;</span><br />\n&nbsp\;<br />\n<span style="font-family:arial\,sans-serif\;">The Davenport branch has served Ascentra&rsquo\;s membership well over the years\, but it is fair to say it was in dire need of updating.&nbsp\;&nbsp\; The location was purchased in 2001 from Wells Fargo after they merged in Brenton Bank and pulled out of serving this underserved area of the city.&nbsp\;&nbsp\;&nbsp\; </span><br />\n&nbsp\;<br />\n<span style="font-family:arial\,sans-serif\;">&ldquo\;The remodel of this branch shows that we&rsquo\;re committed to our membership and reinvesting in the community\,&rdquo\; said Dale Owen\, Ascentra President and CEO.&nbsp\; &ldquo\;We understand the importance of serving this area and look forward to being here for decades to come.&rdquo\; </span><br />\n&nbsp\;<br />\n<strong><em><span style="font-family:arial\,sans-serif\;">About Ascentra:&nbsp\;&nbsp\;&nbsp\;&nbsp\;&nbsp\;&nbsp\;&nbsp\;&nbsp\;&nbsp\;&nbsp\;&nbsp\;&nbsp\;&nbsp\;&nbsp\;&nbsp\;&nbsp\;&nbsp\;&nbsp\;&nbsp\;&nbsp\;&nbsp\;&nbsp\;&nbsp\;&nbsp\;&nbsp\;&nbsp\;&nbsp\;&nbsp\;&nbsp\;&nbsp\;&nbsp\;&nbsp\;&nbsp\;&nbsp\;&nbsp\;&nbsp\;&nbsp\;&nbsp\;&nbsp\;&nbsp\;&nbsp\;&nbsp\;&nbsp\;&nbsp\;&nbsp\;&nbsp\;&nbsp\;&nbsp\;&nbsp\;&nbsp\;&nbsp\;&nbsp\;&nbsp\;&nbsp\;&nbsp\;&nbsp\;&nbsp\;&nbsp\;&nbsp\;&nbsp\;&nbsp\;&nbsp\;&nbsp\;&nbsp\;&nbsp\;&nbsp\;&nbsp\;&nbsp\;&nbsp\;&nbsp\;&nbsp\;&nbsp\;&nbsp\;&nbsp\; </span></em></strong><br />\n<em><span style="font-family:arial\,sans-serif\;">Founded in 1950\, </span></em><span style="font-family:arial\,sans-serif\;"><a href="http://www.laketrust.org"><em>Ascentra Credit Union</em></a></span><em>\, is Iowa&#39\;s premier credit union with more than $420 million in assets and 10 branches serving the communities of Bettendorf\, Clinton\, Davenport\, Le Claire\, Muscatine\, Iowa and Moline\, Ill.&nbsp\; Learn more about Ascentra Credit Union at </em><a href="http://laketrust.org/"><em>ascentra.org.</em></a><em>&nbsp\; Follow Ascentra on Facebook\, Twitter @ascentra\, Instagram @ascentracu and on YouTube.&nbsp\; </em>
LOCATION:Ascentra Credit Union 1710 W. 3rd St. Davenport\, IA 52801
UID:e.2843.13190
SEQUENCE:3
DTSTAMP:20260423T105910Z
URL:https://member.quadcitieschamber.com/events/details/ribbon-cutting-ascentra-credit-union-13190
END:VEVENT

END:VCALENDAR
