BEGIN:VCALENDAR
VERSION:2.0
PRODID:-//ChamberMaster//Event Calendar 2.0//EN
METHOD:PUBLISH
X-PUBLISHED-TTL:P3D
REFRESH-INTERVAL:P3D
CALSCALE:GREGORIAN
BEGIN:VEVENT
DTSTART:20190826T210000Z
DTEND:20190826T213000Z
X-MICROSOFT-CDO-ALLDAYEVENT:FALSE
SUMMARY:Ribbon Cutting - Ascentra Credit Union
DESCRIPTION:Ascentra Credit Union will host a ribbon cutting ceremony on Monday\, August 26 at 4:00 pm to celebrate the Grand Opening of their new office in Bettendorf\, Iowa.  Refreshments and snacks will be available.
X-ALT-DESC;FMTTYPE=text/html:Ascentra Credit Union will host a ribbon cutting ceremony on Monday\, August 26 at 4:00 pm to celebrate the Grand Opening of their new office in Bettendorf\, Iowa.&nbsp\; Refreshments and snacks will be available.<br />\n&nbsp\;
LOCATION:2019 Grant Street Bettendorf\, IA 52722
UID:e.2843.15489
SEQUENCE:3
DTSTAMP:20260422T100831Z
URL:https://member.quadcitieschamber.com/events/details/ribbon-cutting-ascentra-credit-union-15489
END:VEVENT

END:VCALENDAR
