BEGIN:VCALENDAR
VERSION:2.0
PRODID:-//ChamberMaster//Event Calendar 2.0//EN
METHOD:PUBLISH
X-PUBLISHED-TTL:P3D
REFRESH-INTERVAL:P3D
CALSCALE:GREGORIAN
BEGIN:VEVENT
DTSTART:20181023T160000Z
DTEND:20181023T170000Z
X-MICROSOFT-CDO-ALLDAYEVENT:FALSE
SUMMARY:Ribbon Cutting - Ashley Homestore
DESCRIPTION:Ashley Homestore will host a ribbon cutting ceremony on Tuesday\, October 23rd at 11:00 am to celebrate the opening of their 2nd location.
X-ALT-DESC;FMTTYPE=text/html:Ashley Homestore will host a ribbon cutting ceremony on Tuesday\, October 23rd at 11:00 am to celebrate the opening of their 2nd location.
LOCATION:Southpark Mall (Next to Dillards) 4500 -16th Street\, Suite 600 Moline\, IL 61265
UID:e.2843.13498
SEQUENCE:3
DTSTAMP:20260423T043509Z
URL:https://member.quadcitieschamber.com/events/details/ribbon-cutting-ashley-homestore-13498
END:VEVENT

END:VCALENDAR
