BEGIN:VCALENDAR
VERSION:2.0
PRODID:-//ChamberMaster//Event Calendar 2.0//EN
METHOD:PUBLISH
X-PUBLISHED-TTL:P3D
REFRESH-INTERVAL:P3D
CALSCALE:GREGORIAN
BEGIN:VEVENT
DTSTART:20180117T223000Z
DTEND:20180117T230000Z
X-MICROSOFT-CDO-ALLDAYEVENT:FALSE
SUMMARY:Ribbon Cutting - Bass Street YMCA\, a branch of Two Rivers YMCA\, and Sylvan Boathouse
DESCRIPTION:Two Rivers YMCA will host a ribbon cutting ceremony on Wednesday\, January 17 at 4:30pm to celebrate the opening of their new branch   Bass Street YMCA and Sylvan Boathouse located at 1701 1st Ave. Moline\, IL 61265\n\n \n\nThis world class rowing facility has been completely remodeled and now offers an express workout area with a new strength circuit and cardio fitness equipment. Group exercise and personal training is also available. Center hours are Monday through Friday 4:00 am-7:00 pm\, Saturday and Sunday 6:00 am-10:00 am. \n\n \n\nThe Bass Street YMCA and Sylvan Boathouse is in a prime riverfront location on 17th Street\, Moline\, just north of Stoney Creek Inn. A full service branch open to all Y members\, the Bass Street YMCA is conveniently located for those who work\, live or attend school in downtown Moline. \n\n \n\n"The addition of YMCA workout facilities to the Sylvan Boathouse and in concert with our Income Based Membership provides even more access to health living for our community\," said CEO Mike Wennekamp. "We're also excited to expose a wider audience to our nationally recognized rowing programs. Rowing teaches discipline and teamwork along with providing a low-impact workout suitable for all ages. Competitive rowing opportunities are available for those who want to take it beyond the recreational level."\n\n \n\nMembers will be able to take advantage of a boutique-type atmosphere with workouts that change with the seasons. "We'll be taking full advantage of the beautiful riverfront setting this summer. Look for new\, innovative exercise programs that complement the rowing\, paddle boarding\, and kayaking activities currently offered\," said Amy Johnson\, Senior Program Director.\n\n \n\nRowing and the Sylvan Boathouse became part of Two Rivers YMCA during a merger in 2010 that resulted in the start of the Y Quad Cities Rowing program. Since then\, interest in rowing has continued to grow and flourish in the Quad Cities. Members of the junior rowing team have competed\, and won\, on the international level\, and a group of dedicated volunteers introduced an adaptive rowing program. \n\n \n\nNow\, as the Bass Street YMCA and Sylvan Boathouse\, this hidden gem will be even more accessible for the entire community to enjoy with expanded hours and the Y's Income Based Membership!\n\n \n\n \n\n \n\n**Directions   River Dr. to 17th St.\, north to the river. Located next to KONE behind Stoney Creek Inn.
X-ALT-DESC;FMTTYPE=text/html:<span style="font-size:14px\;"><span style="font-family:arial\;">Two Rivers YMCA will host a ribbon cutting ceremony on Wednesday\, January 17 at 4:30pm to celebrate the opening of their new branch &ndash\; Bass Street YMCA and Sylvan Boathouse located at 1701 1<sup>st</sup> Ave. Moline\, IL 61265<br />\n&nbsp\;<br />\n<span style="letter-spacing:-.25pt\;">This world class rowing facility has been completely remodeled and now offers an express workout area with a new strength circuit and cardio fitness equipment. Group exercise and personal training is also available. Center hours are Monday through Friday 4:00 am-7:00 pm\, Saturday and Sunday 6:00 am-10:00 am. </span><br />\n&nbsp\;<br />\n<span style="letter-spacing:-.25pt\;">The Bass Street YMCA and Sylvan Boathouse is in a prime riverfront location on 17th Street\, Moline\, just north of Stoney Creek Inn. A full service branch open to all Y members\, the Bass Street YMCA is conveniently located for those who work\, live or attend school in downtown Moline. </span><br />\n&nbsp\;<br />\n<span style="letter-spacing:-.25pt\;">&ldquo\;The addition of YMCA workout facilities to the Sylvan Boathouse and in concert with our Income Based Membership provides even more access to health living for our community\,&rdquo\; said CEO Mike Wennekamp. &ldquo\;We&rsquo\;re also excited to expose a wider audience to our nationally recognized rowing programs. Rowing teaches discipline and teamwork along with providing a low-impact workout suitable for all ages. Competitive rowing opportunities are available for those who want to take it beyond the recreational level.&rdquo\;</span><br />\n&nbsp\;<br />\n<span style="letter-spacing:-.25pt\;">Members will be able to take advantage of a boutique-type atmosphere with workouts that change with the seasons. &ldquo\;We&rsquo\;ll be taking full advantage of the beautiful riverfront setting this summer. Look for new\, innovative exercise programs that complement the rowing\, paddle boarding\, and kayaking activities currently offered\,&rdquo\; said Amy Johnson\, Senior Program Director.</span><br />\n&nbsp\;<br />\n<span style="letter-spacing:-.25pt\;">Rowing and the Sylvan Boathouse became part of Two Rivers YMCA during a merger in 2010 that resulted in the start of the Y Quad Cities Rowing program. Since then\, interest in rowing has continued to grow and flourish in the Quad Cities. Members of the junior rowing team have competed\, and won\, on the international level\, and a group of dedicated volunteers introduced an adaptive rowing program. </span><br />\n&nbsp\;<br />\n<span style="letter-spacing:-.25pt\;">Now\, as the Bass Street YMCA and Sylvan Boathouse\, this hidden gem will be even more accessible for the entire community to enjoy with expanded hours and the Y&rsquo\;s Income Based Membership!</span><br />\n&nbsp\;<br />\n&nbsp\;<br />\n&nbsp\;<br />\n**Directions &ndash\; River Dr. to 17<sup>th</sup> St.\, north to the river. Located next to KONE behind Stoney Creek Inn.</span></span>
LOCATION:Bass Street YMCA and Sylvan Boathouse 1701 1st Ave. Moline\, IL 61265 **Directions River Dr. to 17th St.\, north to the river. Located next to KONE behind Stoney Creek Inn.
UID:e.2843.9942
SEQUENCE:3
DTSTAMP:20260423T182436Z
URL:https://member.quadcitieschamber.com/events/details/ribbon-cutting-bass-street-ymca-a-branch-of-two-rivers-ymca-and-sylvan-boathouse-9942
END:VEVENT

END:VCALENDAR
