BEGIN:VCALENDAR
VERSION:2.0
PRODID:-//ChamberMaster//Event Calendar 2.0//EN
METHOD:PUBLISH
X-PUBLISHED-TTL:P3D
REFRESH-INTERVAL:P3D
CALSCALE:GREGORIAN
BEGIN:VEVENT
DTSTART:20181105T170000Z
DTEND:20181105T173000Z
X-MICROSOFT-CDO-ALLDAYEVENT:FALSE
SUMMARY:Ribbon Cutting - Bayside Bistro
DESCRIPTION:Bayside Bistro will host a ribbon cutting ceremony on Monday\, November 5th at 11:00 am to celebrate their new business\, which is located in the Village of East Davenport.
X-ALT-DESC;FMTTYPE=text/html:<span style="font-family:calibri\,sans-serif\;"><span style="font-size:11.0pt\;">Bayside Bistro will host a ribbon cutting ceremony on Monday\, November 5<sup>th</sup> at 11:00 am to celebrate their new business\, which is located in the Village of East Davenport.</span></span>
LOCATION:1105 Christie Street Davenport\, IA 52803 Village of East Davenport
UID:e.2843.13532
SEQUENCE:3
DTSTAMP:20260423T012338Z
URL:https://member.quadcitieschamber.com/events/details/ribbon-cutting-bayside-bistro-13532
END:VEVENT

END:VCALENDAR
