BEGIN:VCALENDAR
VERSION:2.0
PRODID:-//ChamberMaster//Event Calendar 2.0//EN
METHOD:PUBLISH
X-PUBLISHED-TTL:P3D
REFRESH-INTERVAL:P3D
CALSCALE:GREGORIAN
BEGIN:VEVENT
DTSTART:20190416T150000Z
DTEND:20190416T153000Z
X-MICROSOFT-CDO-ALLDAYEVENT:FALSE
SUMMARY:Ribbon Cutting - Bellevue University
DESCRIPTION:Bellevue University will be hosting a ribbon cutting ceremony at 10:00 am to celebrate their new business.
X-ALT-DESC;FMTTYPE=text/html:Bellevue University will be hosting a ribbon cutting ceremony at 10:00 am to celebrate their new business.<br />\n&nbsp\;<br />\n&nbsp\;
LOCATION:500 Belmont Road Bettendorf\, IA 52722 Bellevue University is located in Scott Community College's Student Life Center\, Room 2300.
UID:e.2843.14268
SEQUENCE:3
DTSTAMP:20260422T181410Z
URL:https://member.quadcitieschamber.com/events/details/ribbon-cutting-bellevue-university-14268
END:VEVENT

END:VCALENDAR
