BEGIN:VCALENDAR
VERSION:2.0
PRODID:-//ChamberMaster//Event Calendar 2.0//EN
METHOD:PUBLISH
X-PUBLISHED-TTL:P3D
REFRESH-INTERVAL:P3D
CALSCALE:GREGORIAN
BEGIN:VEVENT
DTSTART:20170914T213000Z
DTEND:20170914T220000Z
X-MICROSOFT-CDO-ALLDAYEVENT:FALSE
SUMMARY:Ribbon Cutting - Berta Law Firm
DESCRIPTION:Berta Law Firm\, 4546 N. Brady St. Davenport\, IA 52807\, will host a ribbon cutting ceremony on Thursday\, September 14 at 4:30pm to celebrate their grand opening. An open house will follow until 7:00pm.
X-ALT-DESC;FMTTYPE=text/html:<span style="font-family:arial\,sans-serif\;">Berta Law Firm\, 4546 N. Brady St. Davenport\, IA 52807\, will host a ribbon cutting ceremony on Thursday\, September 14 at 4:30pm to celebrate their grand opening. An open house will follow until 7:00pm.&nbsp\;</span>
LOCATION:Berta Law Firm 4546 N. Brady St. Davenport\, IA 52807
UID:e.2843.6412
SEQUENCE:3
DTSTAMP:20260423T220649Z
URL:https://member.quadcitieschamber.com/events/details/ribbon-cutting-berta-law-firm-6412
END:VEVENT

END:VCALENDAR
