BEGIN:VCALENDAR
VERSION:2.0
PRODID:-//ChamberMaster//Event Calendar 2.0//EN
METHOD:PUBLISH
X-PUBLISHED-TTL:P3D
REFRESH-INTERVAL:P3D
CALSCALE:GREGORIAN
BEGIN:VEVENT
DTSTART:20170629T140000Z
DTEND:20170629T143000Z
X-MICROSOFT-CDO-ALLDAYEVENT:FALSE
SUMMARY:Ribbon Cutting - Bettendorf High School Tennis Courts
DESCRIPTION:Bettendorf High School\, 3333 18th St. Bettendorf\, IA 52722\, will host a ribbon cutting ceremony on Thursday\, June 29 at 9:00am to showcase their new tennis courts.\n\n \n\nThe project was funded in partnership with Bettendorf Parks & Recreation and with the support of a grant from the Scott County Regional Authority. Bettendorf High School's six aging tennis courts have been replaced with a total of 12 high quality\, competition tennis courts.\n\n \n\nFollowing the ribbon cutting at Bettendorf High School\, everyone is invited to head over to Bettendorf Middle School\, 2030 Middle Rd. Bettendorf\, IA 52722 where there will be a Pickleball Demonstration by the Pickleball Club. Bettendorf Middle School also has six new tennis courts and pickleball courts.
X-ALT-DESC;FMTTYPE=text/html:<span style="font-family:arial\;"><span style="font-size:14px\;">Bettendorf High School\, 3333 18th St. Bettendorf\, IA 52722\, will host a ribbon cutting ceremony on Thursday\, June 29 at 9:00am to showcase their new tennis courts.<br />\n&nbsp\;<br />\nThe project was funded in partnership with Bettendorf Parks &amp\; Recreation and with the support of a grant from the Scott County Regional Authority. Bettendorf High School&rsquo\;s six aging tennis courts have been replaced with a total of 12 high quality\, competition tennis courts.<br />\n&nbsp\;<br />\nFollowing the ribbon cutting at Bettendorf High School\, everyone is invited to head over to Bettendorf Middle School\, 2030 Middle Rd. Bettendorf\, IA 52722 where there will be a Pickleball Demonstration by the Pickleball Club. Bettendorf Middle School also has six new tennis courts and pickleball courts.&nbsp\;</span></span>
LOCATION:Bettendorf High School 3333 18th St. Bettendorf\, IA 52722
UID:e.2843.6097
SEQUENCE:3
DTSTAMP:20260424T032141Z
URL:https://member.quadcitieschamber.com/events/details/ribbon-cutting-bettendorf-high-school-tennis-courts-6097
END:VEVENT

END:VCALENDAR
