BEGIN:VCALENDAR
VERSION:2.0
PRODID:-//ChamberMaster//Event Calendar 2.0//EN
METHOD:PUBLISH
X-PUBLISHED-TTL:P3D
REFRESH-INTERVAL:P3D
CALSCALE:GREGORIAN
BEGIN:VEVENT
DTSTART:20170721T193000Z
DTEND:20170721T200000Z
X-MICROSOFT-CDO-ALLDAYEVENT:FALSE
SUMMARY:Ribbon Cutting - Bix Beiderbecke Museum and World Archives
DESCRIPTION:Bix Beiderbecke Museum and World Archives\, River Music Experience Building\, Lower Level 131 W. 2nd St. Davenport\, IA 52801 will host a ribbon cutting ceremony on Friday\, July 21 at 2:30pm to celebrate the exhibit's grand opening.\n\n \n\nThe Bix Beiderbecke Museum is the most comprehensive presentation of the life and music of Davenport jazz legend\, Bix Beiderbecke.\n\nClick here to visit their website.
X-ALT-DESC;FMTTYPE=text/html:<span style="font-family:arial\;"><span style="font-size:14px\;">Bix Beiderbecke Museum and World Archives\, River Music Experience Building\, Lower Level 131 W. 2nd St. Davenport\, IA 52801 will host a ribbon cutting ceremony on Friday\, July 21 at 2:30pm to celebrate the exhibit&rsquo\;s grand opening.<br />\n&nbsp\;<br />\nThe Bix Beiderbecke Museum is the most comprehensive presentation of the life and music of Davenport jazz legend\, Bix Beiderbecke.<br />\n<a href="http://www.bixmuseum.org/">Click here</a> to visit their website.&nbsp\;</span></span>
LOCATION:River Music Experience Building\, Lower Level 131 W. 2nd St. Davenport\, IA 52801
UID:e.2843.6313
SEQUENCE:3
DTSTAMP:20260424T015326Z
URL:https://member.quadcitieschamber.com/events/details/ribbon-cutting-bix-beiderbecke-museum-and-world-archives-6313
END:VEVENT

END:VCALENDAR
