BEGIN:VCALENDAR
VERSION:2.0
PRODID:-//ChamberMaster//Event Calendar 2.0//EN
METHOD:PUBLISH
X-PUBLISHED-TTL:P3D
REFRESH-INTERVAL:P3D
CALSCALE:GREGORIAN
BEGIN:VEVENT
DTSTART:20180912T153000Z
DTEND:20180912T160000Z
X-MICROSOFT-CDO-ALLDAYEVENT:FALSE
SUMMARY:Ribbon Cutting - Black Hawk Area Education Center
DESCRIPTION:Black Hawk Area Education Center will host a ribbon cutting ceremony on Wednesday\, September 12 at 10:30am to celebrate the completion of their new handicap accessible playground. \n\n \n\nBlack Hawk Area Education Center is a school for special needs students. They currently have about 160 students\, ranging in age from 3 - 22. The new playground provides the students an opportunity at all levels of disability to participate in the outdoors in a safe and handicap accessible playground. More funding is needed for the fencing and the reseeding of grass around the area.
X-ALT-DESC;FMTTYPE=text/html:<br />\n<span style="font-family:arial\,sans-serif\;">Black Hawk Area Education Center will host a ribbon cutting ceremony on Wednesday\, September 12 at 10:30am to celebrate the completion of their new handicap accessible playground. </span><br />\n&nbsp\;<br />\n<span style="font-family:arial\,sans-serif\;">Black Hawk Area Education Center is a school for special needs students. They currently have about 160 students\, ranging in age from 3 - 22. The new playground provides the students an opportunity at all levels of disability to participate in the outdoors in a safe and handicap accessible playground. More funding is needed for the fencing and the reseeding of grass around the area.</span><br />\n&nbsp\;
LOCATION:Black Hawk Area Education Center 4680 11th St. East Moline\, IL 61244
UID:e.2843.13437
SEQUENCE:3
DTSTAMP:20260423T043444Z
URL:https://member.quadcitieschamber.com/events/details/ribbon-cutting-black-hawk-area-education-center-13437
END:VEVENT

END:VCALENDAR
