BEGIN:VCALENDAR
VERSION:2.0
PRODID:-//ChamberMaster//Event Calendar 2.0//EN
METHOD:PUBLISH
X-PUBLISHED-TTL:P3D
REFRESH-INTERVAL:P3D
CALSCALE:GREGORIAN
BEGIN:VEVENT
DTSTART:20190829T150000Z
DTEND:20190829T160000Z
X-MICROSOFT-CDO-ALLDAYEVENT:FALSE
SUMMARY:Ribbon Cutting - Black Hawk College Building 1 Addition
DESCRIPTION:Black Hawk College will host a ribbon cutting ceremony on Thursday\, August 29 at 10:00 am to celebrate the Building 1 addition and renovation at their Quad Cities Campus.
X-ALT-DESC;FMTTYPE=text/html:Black Hawk College will host a ribbon cutting ceremony on Thursday\, August 29 at 10:00 am to celebrate the Building 1 addition and renovation at their Quad Cities Campus.
LOCATION:6600 34th Avenue Moline\, IL 61265
UID:e.2843.15522
SEQUENCE:3
DTSTAMP:20260422T100758Z
URL:https://member.quadcitieschamber.com/events/details/ribbon-cutting-black-hawk-college-building-1-addition-15522
END:VEVENT

END:VCALENDAR
