BEGIN:VCALENDAR
VERSION:2.0
PRODID:-//ChamberMaster//Event Calendar 2.0//EN
METHOD:PUBLISH
X-PUBLISHED-TTL:P3D
REFRESH-INTERVAL:P3D
CALSCALE:GREGORIAN
BEGIN:VEVENT
DTSTART:20180501T213000Z
DTEND:20180501T220000Z
X-MICROSOFT-CDO-ALLDAYEVENT:FALSE
SUMMARY:Ribbon Cutting - Blackhawk Bank & Trust
DESCRIPTION:Blackhawk Bank & Trust\, 334 2nd Ave. W Milan\, IL 61264\, will host a ribbon cutting ceremony on Tuesday\, May 1 at 4:30pm in celebration of their new Operations Building!\n\n \n\nFor over 55 years\, since breaking ground at their Milan Main Bank\, Blackhawk Bank & Trust has remained a locally owned and operated bank\, committed to the growth and wellbeing of this area\, and the people who make it so special. They are proud to have their roots in Milan. With the opening of their Operations Building\, they are continuing to grow and reaffirm their commitment to remaining a locally owned bank. The Operations Building houses the Bookkeeping Department\, Central Loan Administration\, and various Operations offices.
X-ALT-DESC;FMTTYPE=text/html:<br />\n<span style="font-size:14px\;"><span style="font-family:arial\;">Blackhawk Bank &amp\; Trust\, 334 2nd Ave. W Milan\, IL 61264\, will host a ribbon cutting ceremony on Tuesday\, May 1 at 4:30pm in celebration of their new Operations Building!<br />\n&nbsp\;<br />\nFor over 55 years\, since breaking ground at their Milan Main Bank\, Blackhawk Bank &amp\; Trust has remained a locally owned and operated bank\, committed to the growth and wellbeing of this area\, and the people who make it so special. They are proud to have their roots in Milan. With the opening of their Operations Building\, they are continuing to grow and reaffirm their commitment to remaining a locally owned bank. The Operations Building houses the Bookkeeping Department\, Central Loan Administration\, and various Operations offices.</span></span>
LOCATION:Blackhawk Bank & Trust 334 2nd Ave. W Milan\, IL 61264
UID:e.2843.13177
SEQUENCE:3
DTSTAMP:20260423T105910Z
URL:https://member.quadcitieschamber.com/events/details/ribbon-cutting-blackhawk-bank-trust-13177
END:VEVENT

END:VCALENDAR
