BEGIN:VCALENDAR
VERSION:2.0
PRODID:-//ChamberMaster//Event Calendar 2.0//EN
METHOD:PUBLISH
X-PUBLISHED-TTL:P3D
REFRESH-INTERVAL:P3D
CALSCALE:GREGORIAN
BEGIN:VEVENT
DTSTART:20180502T210000Z
DTEND:20180502T230000Z
X-MICROSOFT-CDO-ALLDAYEVENT:FALSE
SUMMARY:Ribbon Cutting - BluJaket
DESCRIPTION:Celebrate the launch of BluJaket by joining us for a Ribbon Cutting at Five Cities Brewing\, 2255 Falcon Ave. Bettendorf\, IA 52722 on Wednesday\, May 2nd at 4pm.\n\n\n\nA message from BluJaket: \n\nWe are extremely excited to share our success with all our business partners and app users from around Iowa. \n\n\n\nAside from a couple one-minute speeches and a ribbon-cutting photo\, this will be a fun light-hearted event for people to enjoy themselves at one of the newest breweries in town with shuffleboard\, foosball\, bags\, outside patio\, photo booth and more. \n\n\n\nOur goal is to have over 100 people in our ribbon cutting photo\, so bring a friend or two and we will see you there!\n\n\n\nAbout BluJaket:\n\nFacebook - https://www.facebook.com/BluJaketApp/ \n\n\n\nBluJaket is the Original Hyper-Local Marketing Software that puts the power of mobile marketing back in the hand's of the business.\n\n\n\nThat's great but what the sting is hyper-local you might ask? Hyper-local refers to the concept of narrowing the focus of local marketing from Citywide to a city block.\n\n\n\nBluJaket allows businesses to engage with customers near their business in real-time with compelling offers getting them off the streets and into seats.\n\n\n\nUnlike other forms of coupon delivery\, BluJaket connects businesses and consumers in the right place\, at the right time with an enticing call to actions for a mutually beneficial engagement.\n\nBluJaket is free for consumers and only $25/mo. for businesses looking to take back control of their mobile deals.\n\n\n\nDownload on Android & IOS - http://l.ead.me/baqcuG
X-ALT-DESC;FMTTYPE=text/html:<span style="background-image:initial\;background-position:initial\;background-size:initial\;background-repeat:initial\;background-attachment:initial\;background-origin:initial\;background-clip:initial\;"><span style="font-family:arial\,sans-serif\;">Celebrate the launch of BluJaket by joining us for a Ribbon Cutting at Five Cities Brewing\, 2255 Falcon Ave. Bettendorf\, IA 52722 on Wednesday\, May 2nd at 4pm.</span></span><br />\n<br />\n<span style="font-family:arial\,sans-serif\;"><strong><u><span style="background-image:initial\;background-position:initial\;background-size:initial\;background-repeat:initial\;background-attachment:initial\;background-origin:initial\;background-clip:initial\;">A message from BluJaket:</span></u></strong> </span><br />\n<span style="background-image:initial\;background-position:initial\;background-size:initial\;background-repeat:initial\;background-attachment:initial\;background-origin:initial\;background-clip:initial\;"><span style="font-family:arial\,sans-serif\;">We are extremely excited to share our success with all our business partners and app users from around Iowa.&nbsp\;</span></span><br />\n<br />\n<span style="font-family:arial\,sans-serif\;"><span style="background-image:initial\;background-position:initial\;background-size:initial\;background-repeat:initial\;background-attachment:initial\;background-origin:initial\;background-clip:initial\;">Aside from a couple one-minute speeches and a ribbon-cutting photo\, this will be a fun light-hearted event for people to enjoy themselves at one of the newest breweries in town with shuffleboard\, foosball\, bags\, outside patio\, photo booth and more.&nbsp\;</span><br />\n<br />\n<span style="background-image:initial\;background-position:initial\;background-size:initial\;background-repeat:initial\;background-attachment:initial\;background-origin:initial\;background-clip:initial\;">Our goal is to have over 100 people in our ribbon cutting photo\, so bring a friend or two and we will see you there!</span><br />\n<br />\n<strong><u><span style="background-image:initial\;background-position:initial\;background-size:initial\;background-repeat:initial\;background-attachment:initial\;background-origin:initial\;background-clip:initial\;">About BluJaket:</span></u></strong></span><br />\n<span style="background-image:initial\;background-position:initial\;background-size:initial\;background-repeat:initial\;background-attachment:initial\;background-origin:initial\;background-clip:initial\;"><span style="font-family:arial\,sans-serif\;"><span style="font-size:11pt\;">Facebook - <a href="https://www.facebook.com/BluJaketApp/"><span style="text-decoration-line:none\;">https://www.facebook.com/BluJaketApp/</span></a> </span></span></span><br />\n<br />\n<span style="font-family:arial\,sans-serif\;"><span style="font-size:11.0pt\;"><span style="background-image:initial\;background-position:initial\;background-size:initial\;background-repeat:initial\;background-attachment:initial\;background-origin:initial\;background-clip:initial\;">BluJaket is the Original Hyper-Local Marketing Software that puts the power of mobile marketing back in the&nbsp\;hand&#39\;s of the business.</span><br />\n<br />\nThat&#39\;s great but what the sting is hyper-local you might ask? Hyper-local refers to the concept of narrowing the focus of local marketing from Citywide to a city block.</span><br />\n<br />\nBluJaket allows businesses to engage with customers near their business in real-time with compelling offers getting them off the streets and into seats.</span><br />\n<br />\nUnlike other forms of coupon delivery\, BluJaket connects businesses and consumers in the right place\, at the right time with an enticing call to actions for a mutually beneficial engagement.<br />\nBluJaket is free for consumers and only $25/mo. for businesses looking to take back control of their mobile deals.<br />\n<br />\nDownload on Android &amp\; IOS -&nbsp\;<a href="http://l.ead.me/baqcuG" target="_blank"><span style="text-decoration-line:none\;"><span style="color:windowtext\;">http://l.ead.me/baqcuG</span></span></a>
LOCATION:Five Cities Brewing 2255 Falcon Ave. Bettendorf\, IA 52722
UID:e.2843.12153
SEQUENCE:3
DTSTAMP:20260423T104752Z
URL:https://member.quadcitieschamber.com/events/details/ribbon-cutting-blujaket-12153
END:VEVENT

END:VCALENDAR
