BEGIN:VCALENDAR
VERSION:2.0
PRODID:-//ChamberMaster//Event Calendar 2.0//EN
METHOD:PUBLISH
X-PUBLISHED-TTL:P3D
REFRESH-INTERVAL:P3D
CALSCALE:GREGORIAN
BEGIN:VEVENT
DTSTART:20250723T150000Z
DTEND:20250723T160000Z
X-MICROSOFT-CDO-ALLDAYEVENT:FALSE
SUMMARY:Ribbon Cutting - Border Foods/Taco Bell
DESCRIPTION:Border Foods   Taco Bell will host a ribbon cutting to celebrate their grand opening on Wednesday\, July 23\, 2025 at 10:00 AM.  New location is 1736 W. Kimberly Rd in Davenport\, IA.\n\n \n\nAs one of the nation's leading Taco Bell franchisees\, they are on a mission to:  Develop their team members\, Create and sustain opportunities\, and Give back to their communities.  They promise to do it all with fresh food and a smile\, while living their values for the customers they love.\n\n \n\nFor more information\, please visit Border Foods
X-ALT-DESC;FMTTYPE=text/html:Border Foods &ndash\; Taco Bell will host a ribbon cutting to celebrate their grand opening on Wednesday\, July 23\, 2025 at 10:00 AM.&nbsp\; New location is 1736 W. Kimberly Rd in Davenport\, IA.<br />\n&nbsp\;<br />\nAs one of the nation&rsquo\;s leading Taco Bell franchisees\, they are on a mission to:&nbsp\; Develop their team members\, Create and sustain opportunities\, and Give back to their communities.&nbsp\; They promise to do it all with fresh food and a smile\, while living their values for the customers they love.<br />\n&nbsp\;<br />\n<span style="color:#242424\;"><span style="font-family:segoe ui\,sans-serif\;">For more information\, please visit <a href="https://member.quadcitieschamber.com/list/Member/border-foods-57653">Border Foods</a></span></span><br />\n&nbsp\;
LOCATION:Border Foods - Taco Bell 1736 W. Kimberly Rd Davenport\, IA 52806
UID:e.2843.23937
SEQUENCE:3
DTSTAMP:20260425T015844Z
URL:https://member.quadcitieschamber.com/events/details/ribbon-cutting-border-foods-taco-bell-23937
END:VEVENT

END:VCALENDAR
