BEGIN:VCALENDAR
VERSION:2.0
PRODID:-//ChamberMaster//Event Calendar 2.0//EN
METHOD:PUBLISH
X-PUBLISHED-TTL:P3D
REFRESH-INTERVAL:P3D
CALSCALE:GREGORIAN
BEGIN:VEVENT
DTSTART:20181004T150000Z
DTEND:20181004T153000Z
X-MICROSOFT-CDO-ALLDAYEVENT:FALSE
SUMMARY:Ribbon Cutting - Bozeman\, Neighbour\, Patton & Noe\, LLP
DESCRIPTION:Bozeman\, Neighbour\, Patton & Noe\, LLP will host a ribbon cutting ceremony and open house on Thursday\, October 4 at 10:00 am to celebrate their new location in Moline Centre.\n\nAn Open house will take place from 4pm - 7pm.
X-ALT-DESC;FMTTYPE=text/html:<span style="color: rgb(51\, 51\, 51)\; font-family: arial\; font-size: 14px\; background-color: rgb(255\, 255\, 255)\;">Bozeman\, Neighbour\, Patton &amp\; Noe\, LLP will host a ribbon cutting ceremony and open house on Thursday\, October 4 at 10:00 am to celebrate their new location in Moline Centre.</span><br style="color: rgb(51\, 51\, 51)\; font-family: arial\; font-size: 14px\; background-color: rgb(255\, 255\, 255)\;" />\n<span style="color: rgb(51\, 51\, 51)\; font-family: arial\; font-size: 14px\; background-color: rgb(255\, 255\, 255)\;">An Open house will take place from 4pm - 7pm.&nbsp\;</span><br style="color: rgb(51\, 51\, 51)\; font-family: arial\; font-size: 14px\; background-color: rgb(255\, 255\, 255)\;" />\n<span style="color: rgb(51\, 51\, 51)\; font-family: arial\; font-size: 14px\; background-color: rgb(255\, 255\, 255)\;">&nbsp\;</span>
LOCATION:1620 5th Avenue\, Suite 101 Moline\, IL 61265
UID:e.2843.13489
SEQUENCE:3
DTSTAMP:20260423T030312Z
URL:https://member.quadcitieschamber.com/events/details/ribbon-cutting-bozeman-neighbour-patton-noe-llp-13489
END:VEVENT

END:VCALENDAR
