BEGIN:VCALENDAR
VERSION:2.0
PRODID:-//ChamberMaster//Event Calendar 2.0//EN
METHOD:PUBLISH
X-PUBLISHED-TTL:P3D
REFRESH-INTERVAL:P3D
CALSCALE:GREGORIAN
BEGIN:VEVENT
DTSTART:20180620T150000Z
DTEND:20180620T153000Z
X-MICROSOFT-CDO-ALLDAYEVENT:FALSE
SUMMARY:Ribbon Cutting - Bruner\, Cooper\, & Zuck\, Inc.
DESCRIPTION:Bruner\, Cooper\, & Zuck\, Inc.\, 2415 18th St. Bettendorf\, IA 52722\, will host a ribbon cutting ceremony on Wednesday\, June 20 at 10:00am.\n\n \n\nBruner\, Cooper\, & Zuck\, Inc.\, has been in business since 1959 and offer Engineering\, Land Surveying and Architectural Services. They purchased Downing Architects in 2016 and have now officially changed the name and added new signage to their building!\n\nThey also have locations in Burlington\, IA and Galesburg\, IL.
X-ALT-DESC;FMTTYPE=text/html:<span style="font-size:14px\;"><span style="font-family:arial\;">Bruner\, Cooper\, &amp\; Zuck\, Inc.\, 2415 18th St. Bettendorf\, IA 52722\, will host a ribbon cutting ceremony on Wednesday\, June 20 at 10:00am.<br />\n&nbsp\;<br />\nBruner\, Cooper\, &amp\; Zuck\, Inc.\, has been in business since 1959 and offer Engineering\, Land Surveying and Architectural Services. They purchased Downing Architects in 2016 and have now officially changed the name and added new signage to their building!<br />\nThey also have locations in Burlington\, IA and Galesburg\, IL.</span></span>
LOCATION:2415 18th St. Bettendorf\, IA 52722
UID:e.2843.13314
SEQUENCE:3
DTSTAMP:20260423T092243Z
URL:https://member.quadcitieschamber.com/events/details/ribbon-cutting-bruner-cooper-zuck-inc-13314
END:VEVENT

END:VCALENDAR
