BEGIN:VCALENDAR
VERSION:2.0
PRODID:-//ChamberMaster//Event Calendar 2.0//EN
METHOD:PUBLISH
X-PUBLISHED-TTL:P3D
REFRESH-INTERVAL:P3D
CALSCALE:GREGORIAN
BEGIN:VEVENT
DTSTART:20190806T220000Z
DTEND:20190807T000000Z
X-MICROSOFT-CDO-ALLDAYEVENT:FALSE
SUMMARY:Ribbon Cutting - Cambria Hotel Bettendorf Quad Cities
DESCRIPTION:Cambria Hotel Bettendorf Quad Cities will host a ribbon cutting ceremony on Tuesday\, August 6 at 5:00 pm to celebrate their Grand Opening. An Open House will take place from 4:00 pm   7:00 pm. Drinks & Hors d'oeuvres will be served.
X-ALT-DESC;FMTTYPE=text/html:Cambria Hotel Bettendorf Quad Cities will host a ribbon cutting ceremony on Tuesday\, August 6 at 5:00 pm to celebrate their Grand Opening. An Open House will take place from 4:00 pm &ndash\; 7:00 pm. Drinks &amp\; Hors d&rsquo\;oeuvres will be served.
LOCATION:5061 Competition Drive Bettendorf\, IA 52722 They are located at the TBK Bank Sports Complex in Bettendorf.
UID:e.2843.15479
SEQUENCE:3
DTSTAMP:20260422T101122Z
URL:https://member.quadcitieschamber.com/events/details/ribbon-cutting-cambria-hotel-bettendorf-quad-cities-15479
END:VEVENT

END:VCALENDAR
