BEGIN:VCALENDAR
VERSION:2.0
PRODID:-//ChamberMaster//Event Calendar 2.0//EN
METHOD:PUBLISH
X-PUBLISHED-TTL:P3D
REFRESH-INTERVAL:P3D
CALSCALE:GREGORIAN
BEGIN:VEVENT
DTSTART:20180724T150000Z
DTEND:20180724T153000Z
X-MICROSOFT-CDO-ALLDAYEVENT:FALSE
SUMMARY:Ribbon Cutting - Camp Re-Imagine at Jefferson Elementary
DESCRIPTION:The Davenport Community School District and Mississippi Bend AEA will host a ribbon cutting ceremony on Tuesday\, July 24 at 10:00am to celebrate the grand opening of a one-day student caf \, Jets Caf \, as part of the Camp Re-Imagine Summer Learning Program! The caf  will officially open on July 25. \n\n \n\nThe ribbon cutting will take place in the cafeteria of Jefferson Elementary School\, located directly inside the front entrance. \n\n1027 N Marquette St. Davenport\, IA 52804\n\n \n\nAbout Camp Re-Imagine Program: \n\nCamp Re-Imagine is the summer learning program at Jefferson Elementary. Students in the Healthy Me project are learning about eating healthy and staying physically active. They will be operating a 2-day restaurant as part of their culminating project.\n\nThe partnership between Davenport Community School District and Mississippi Bend AEA developed a pilot program focusing on how summer can be more than preventing summer loss. Summer can advance learning and skills. Camp Re-Imagine was developed around five foundational principles that increase enthusiasm\, engagement and authentic learning for all students: 1. Student-Centered Learning 2. Collaboration 3. Culture of Curiosity 4. Personalization 5. Growth Mindset. The redesign of summer learning uses theme-based opportunities to enhance and enrich learning experiences that will boost educational/cognitive skills and career and college readiness at the elementary level.
X-ALT-DESC;FMTTYPE=text/html:<br />\n<span style="font-family:arial\,sans-serif\;">The Davenport Community School District and <span style="background:white\;"><span style="color:black\;">Mississippi Bend AEA </span></span>will host a ribbon cutting ceremony on Tuesday\, July 24 at 10:00am to celebrate the grand opening of a one-day student caf&eacute\;\, Jets Caf&eacute\;\, as part of the Camp Re-Imagine Summer Learning Program! The caf&eacute\; will officially open on July 25. </span><br />\n&nbsp\;<br />\n<span style="font-family:arial\,sans-serif\;">The ribbon cutting will take place in the cafeteria of Jefferson Elementary School\, located directly inside the front entrance. </span><br />\n<span style="font-family:arial\,sans-serif\;">1027 N Marquette St. Davenport\, IA 52804</span><br />\n&nbsp\;<br />\n<strong><u><span style="font-family:arial\,sans-serif\;">About Camp Re-Imagine Program: </span></u></strong><br />\n<span style="font-family:arial\,sans-serif\;"><span style="font-size:11.0pt\;">Camp Re-Imagine is the summer learning program at Jefferson Elementary. Students in the Healthy Me project are learning about eating healthy and staying physically active. They will be operating a 2-day restaurant as part of their culminating project.</span></span><br />\n<span style="background:white\;"><span style="color:black\;"><span style="font-family:arial\,sans-serif\;"><span style="font-size:11.0pt\;">The partnership between Davenport Community School District and Mississippi Bend AEA developed a pilot program focusing on how summer can be more than preventing summer loss. Summer can advance learning and skills. Camp Re-Imagine was developed around five foundational principles that increase enthusiasm\, engagement and authentic learning for all students: 1. Student-Centered Learning 2. Collaboration 3. Culture of Curiosity 4. Personalization 5. Growth Mindset. The redesign of summer learning uses theme-based opportunities to enhance and enrich learning experiences that will boost educational/cognitive skills and career and college readiness at the elementary level. &nbsp\;</span></span></span></span><br />\n&nbsp\;
LOCATION:Jefferson Elementary School Jets Caf 1027 N Marquette St. Davenport\, IA 52804
UID:e.2843.13373
SEQUENCE:3
DTSTAMP:20260423T074729Z
URL:https://member.quadcitieschamber.com/events/details/ribbon-cutting-camp-re-imagine-at-jefferson-elementary-13373
END:VEVENT

END:VCALENDAR
