BEGIN:VCALENDAR
VERSION:2.0
PRODID:-//ChamberMaster//Event Calendar 2.0//EN
METHOD:PUBLISH
X-PUBLISHED-TTL:P3D
REFRESH-INTERVAL:P3D
CALSCALE:GREGORIAN
BEGIN:VEVENT
DTSTART:20190621T210000Z
DTEND:20190621T213000Z
X-MICROSOFT-CDO-ALLDAYEVENT:FALSE
SUMMARY:Ribbon Cutting - Catherine's + Paul's Menswear
DESCRIPTION:Catherine + Paul's Menswear will host a ribbon cutting ceremony on Friday\, June 21 at 4:00 pm\, to celebrate the opening of their new business. They are located in a new building behind the Utica Ridge YMCA.
X-ALT-DESC;FMTTYPE=text/html:Catherine + Paul&rsquo\;s Menswear will host a ribbon cutting ceremony on Friday\, June 21 at 4:00 pm\, to celebrate the opening of their new business. They are located in a new building behind the Utica Ridge YMCA.
LOCATION:4893 Utica Ridge Road #103 Davenport\, IA 52807
UID:e.2843.15415
SEQUENCE:3
DTSTAMP:20260422T131858Z
URL:https://member.quadcitieschamber.com/events/details/ribbon-cutting-catherine-s-paul-s-menswear-15415
END:VEVENT

END:VCALENDAR
