BEGIN:VCALENDAR
VERSION:2.0
PRODID:-//ChamberMaster//Event Calendar 2.0//EN
METHOD:PUBLISH
X-PUBLISHED-TTL:P3D
REFRESH-INTERVAL:P3D
CALSCALE:GREGORIAN
BEGIN:VEVENT
DTSTART:20131023T220000Z
DTEND:20131023T223000Z
X-MICROSOFT-CDO-ALLDAYEVENT:FALSE
SUMMARY:Ribbon Cutting Ceremony for the New Section of Crow Creek Recreation Trail
DESCRIPTION:Please join the Bettendorf Parks & Recreation Department in celebrating the expansion of the Crow Creek Recreation Trail on Wednesday\, October 23rd at 5:00pm - Located at Crow Creek Park\, 4701 Devils Glen Rd. Bettendorf\, IA 52722.  http://mapq.st/1772hAl.  Jeanna Trenkamp\, Program and Events Coordinator\, will be speaking on behalf of the Quad Cities Chamber of Commerce.   The new section runs from Crow Creek in Crow Creek Park approximately 0.7 miles east to Middle Road where it connects with the Middle Road Separated Trail.  This latest addition to the trails system runs through a variety of natural areas.   Parking will be available in Crow Creek Park at the Quarry and the parking lot near ball field #4.  Golf carts will be available at those locations to access the ribbon cutting site\, or a short walk will also get you to the site.  Please bring your walking shoes! For more information visit www.Bettendorf.org/park.
X-ALT-DESC;FMTTYPE=text/html:<P style="MARGIN: 0in 0in 0pt" class=MsoNormal><FONT face=Calibri>Please join the Bettendorf Parks &amp\; Recreation Department in celebrating the expansion of the Crow Creek Recreation Trail on Wednesday\, October 23<SUP>rd</SUP> at 5:00pm - Located at Crow Creek Park\, 4701 Devils Glen Rd. Bettendorf\, IA 52722.<SPAN style="mso-spacerun: yes">&nbsp\; </SPAN></FONT><A href="http://mapq.st/1772hAl">http://mapq.st/1772hAl</A><FONT face=Calibri>. </FONT></P><P style="MARGIN: 0in 0in 0pt" class=MsoNormal><FONT face=Calibri></FONT>&nbsp\;</P><P style="MARGIN: 0in 0in 0pt" class=MsoNormal><FONT face=Calibri>Jeanna Trenkamp\, Program and Events Coordinator\, will be speaking on behalf of the Quad Cities Chamber of Commerce.<SPAN style="mso-spacerun: yes">&nbsp\; </SPAN><?xml:namespace prefix = o ns = "urn:schemas-microsoft-com:office:office" /><o:p></o:p></FONT></P><P style="MARGIN: 0in 0in 0pt" class=MsoNormal><o:p><FONT face=Calibri>&nbsp\;</FONT></o:p></P><P style="MARGIN: 0in 0in 0pt" class=MsoNormal><FONT face=Calibri>The new section runs from Crow Creek in Crow Creek Park approximately 0.7 miles east to Middle Road where it connects with the Middle Road Separated Trail.<SPAN style="mso-spacerun: yes">&nbsp\; </SPAN>This latest addition to the trails system runs through a variety of natural areas.<SPAN style="mso-spacerun: yes">&nbsp\; </SPAN><o:p></o:p></FONT></P><P style="MARGIN: 0in 0in 0pt" class=MsoNormal><o:p><FONT face=Calibri>&nbsp\;</FONT></o:p></P><P style="MARGIN: 0in 0in 0pt" class=MsoNormal><FONT face=Calibri>Parking will be available in Crow Creek Park at the Quarry and the parking lot near ball field #4.<SPAN style="mso-spacerun: yes">&nbsp\; </SPAN>Golf carts will be available at those locations to access the ribbon cutting site\, or a short walk will also get you to the site.<SPAN style="mso-spacerun: yes">&nbsp\; </SPAN>Please bring your walking shoes!<o:p></o:p></FONT></P><P style="MARGIN: 0in 0in 0pt" class=MsoNormal><o:p><FONT face=Calibri>&nbsp\;</FONT></o:p></P><P style="MARGIN: 0in 0in 0pt" class=MsoNormal><FONT face=Calibri>For more information visit </FONT><A href="http://www.Bettendorf.org/park">www.Bettendorf.org/park</A><FONT face=Calibri>. <o:p></o:p></FONT></P><P>&nbsp\;</P>
LOCATION:Bettendorf Parks and Recreation Department
UID:e.2843.736
SEQUENCE:3
DTSTAMP:20260421T221237Z
URL:https://member.quadcitieschamber.com/events/details/ribbon-cutting-ceremony-for-the-new-section-of-crow-creek-recreation-trail-10-23-2013-736
END:VEVENT

END:VCALENDAR
