BEGIN:VCALENDAR
VERSION:2.0
PRODID:-//ChamberMaster//Event Calendar 2.0//EN
METHOD:PUBLISH
X-PUBLISHED-TTL:P3D
REFRESH-INTERVAL:P3D
CALSCALE:GREGORIAN
BEGIN:VEVENT
DTSTART:20190603T213000Z
DTEND:20190603T220000Z
X-MICROSOFT-CDO-ALLDAYEVENT:FALSE
SUMMARY:Ribbon Cutting - Clint's Draft House
DESCRIPTION:Clint's Draft House will host a ribbon cutting ceremony on Monday\, June 3\, to celebrate their new location.
X-ALT-DESC;FMTTYPE=text/html:<br />\nClint&rsquo\;s Draft House will host a ribbon cutting ceremony on Monday\, June 3\, to celebrate their new location.
LOCATION:1630 7th Street Moline\, IL 61265
UID:e.2843.15402
SEQUENCE:3
DTSTAMP:20260422T131403Z
URL:https://member.quadcitieschamber.com/events/details/ribbon-cutting-clint-s-draft-house-15402
END:VEVENT

END:VCALENDAR
