BEGIN:VCALENDAR
VERSION:2.0
PRODID:-//ChamberMaster//Event Calendar 2.0//EN
METHOD:PUBLISH
X-PUBLISHED-TTL:P3D
REFRESH-INTERVAL:P3D
CALSCALE:GREGORIAN
BEGIN:VEVENT
DTSTART:20181004T210000Z
DTEND:20181004T230000Z
X-MICROSOFT-CDO-ALLDAYEVENT:FALSE
SUMMARY:Ribbon Cutting - Country Inn & Suites
DESCRIPTION:Country Inn & Suites will hold a Ribbon Cutting ceremony on October 4\, 2018 to celebrate the renovation of their building.\n\nAn Open House will take place from 4pm - 6pm.
X-ALT-DESC;FMTTYPE=text/html:Country Inn &amp\; Suites will hold a Ribbon Cutting ceremony on October 4\, 2018 to celebrate the renovation of their building.<br />\nAn Open House will take place from 4pm - 6pm.
LOCATION:2721 69th Avenue Court Moline\, IL 61265
UID:e.2843.13492
SEQUENCE:3
DTSTAMP:20260423T030144Z
URL:https://member.quadcitieschamber.com/events/details/ribbon-cutting-country-inn-suites-13492
END:VEVENT

END:VCALENDAR
