BEGIN:VCALENDAR
VERSION:2.0
PRODID:-//ChamberMaster//Event Calendar 2.0//EN
METHOD:PUBLISH
X-PUBLISHED-TTL:P3D
REFRESH-INTERVAL:P3D
CALSCALE:GREGORIAN
BEGIN:VEVENT
DTSTART:20180511T203000Z
DTEND:20180511T210000Z
X-MICROSOFT-CDO-ALLDAYEVENT:FALSE
SUMMARY:Ribbon Cutting - Crawford Brew Works
DESCRIPTION:Crawford Brew Works\, 3659 Devils Glen Road Bettendorf\, IA 52722 will host a ribbon cutting ceremony at 3:30pm on May 11\, 2018 to celebrate their grand opening!\n\n \n\nCrawford Brew Works is a new micro-brewery and taproom to be located in the heart of Bettendorf\, IA. The taproom will occupy 3500-sq. ft. of newly constructed space on Devils Glen Road\, near the intersection of Tanglefoot Lane. The facility will also feature a lower level production area. Crawford Brew Works will offer a number of flagship beers and seasonal options.\n\nClick here to check out their promo video!
X-ALT-DESC;FMTTYPE=text/html:<br />\n<span style="font-family:arial\,sans-serif\;">Crawford Brew Works\, 3659 Devils Glen Road Bettendorf\, IA 52722 will host a ribbon cutting ceremony at 3:30pm on May 11\, 2018 to celebrate their grand opening!</span><br />\n&nbsp\;<br />\n<span style="font-family:arial\,sans-serif\;">Crawford Brew Works is a new micro-brewery and taproom to be located in the heart of Bettendorf\, IA. The taproom will occupy 3500-sq. ft. of newly constructed space on Devils Glen Road\, near the intersection of Tanglefoot Lane. The facility will also feature a lower level production area. Crawford Brew Works will offer a number of flagship beers and seasonal options.<br />\n<a href="https://www.youtube.com/watch?v=gbqgT1eaG7k&amp\;feature=share">Click here</a></span> to check out their promo video!
LOCATION:Crawford Brew Works 3659 Devils Glen Road Bettendorf\, IA 52722
UID:e.2843.13200
SEQUENCE:3
DTSTAMP:20260423T104931Z
URL:https://member.quadcitieschamber.com/events/details/ribbon-cutting-crawford-brew-works-13200
END:VEVENT

END:VCALENDAR
