BEGIN:VCALENDAR
VERSION:2.0
PRODID:-//ChamberMaster//Event Calendar 2.0//EN
METHOD:PUBLISH
X-PUBLISHED-TTL:P3D
REFRESH-INTERVAL:P3D
CALSCALE:GREGORIAN
BEGIN:VEVENT
DTSTART:20180919T200000Z
DTEND:20180919T220000Z
X-MICROSOFT-CDO-ALLDAYEVENT:FALSE
SUMMARY:Ribbon Cutting - Crawford Brewing Equipment\, A Division of Crawford Company
DESCRIPTION:Crawford Brewing Equipment\, a division of Crawford Company will host a ribbon cutting ceremony on Wednesday\, September 19 at 3pm to celebrate the completion of their new location.\n\n \n\nAn open house will follow.\n\n \n\nCrawford Company is a diversified business that offers contracting and manufacturing services. Crawford Brewing Equipment\, a division of Crawford Company\, manufactures micro-brewing equipment. To meet the growing demand for micro-brewing equipment\, Crawford Company purchased the vacant building at 730 31st Avenue Rock Island. With support and assistance from the City of Rock Island\, the building has been extensively renovated. The newly renovated 20\,000 square foot building will increase the brew equipment production floor and inventory space. The new building will also provide office and conference space for Crawford Brewing Equipment's team\, allowing them to be more efficient and effective in both sales and production
X-ALT-DESC;FMTTYPE=text/html:<span style="font-family:arial\,sans-serif\;">Crawford Brewing Equipment\, a division of Crawford Company will host a ribbon cutting ceremony on Wednesday\, September 19 at 3pm to celebrate the completion of their new location.</span><br />\n&nbsp\;<br />\n<span style="font-family:arial\,sans-serif\;">An open house will follow.</span><br />\n&nbsp\;<br />\n<span style="font-family:arial\,sans-serif\;">Crawford Company is a diversified business that offers contracting and manufacturing services. Crawford Brewing Equipment\, a division of Crawford Company\, manufactures micro-brewing equipment. To meet the growing demand for micro-brewing equipment\, Crawford Company purchased the vacant building at 730 31st Avenue Rock Island. With support and assistance from the City of Rock Island\, the building has been extensively renovated. The newly renovated 20\,000 square foot building will increase the brew equipment production floor and inventory space. The new building will also provide office and conference space for Crawford Brewing Equipment&#39\;s team\, allowing them to be more efficient and effective in both sales and production</span>
LOCATION:730 31st Avenue Rock Island\, IL 61201
UID:e.2843.13472
SEQUENCE:3
DTSTAMP:20260423T062538Z
URL:https://member.quadcitieschamber.com/events/details/ribbon-cutting-crawford-brewing-equipment-a-division-of-crawford-company-13472
END:VEVENT

END:VCALENDAR
