BEGIN:VCALENDAR
VERSION:2.0
PRODID:-//ChamberMaster//Event Calendar 2.0//EN
METHOD:PUBLISH
X-PUBLISHED-TTL:P3D
REFRESH-INTERVAL:P3D
CALSCALE:GREGORIAN
BEGIN:VEVENT
DTSTART:20181106T180000Z
DTEND:20181106T183000Z
X-MICROSOFT-CDO-ALLDAYEVENT:FALSE
SUMMARY:Ribbon Cutting - Crow Valley Dental
DESCRIPTION:Crow Valley Dental will be hosting a ribbon cutting on Tuesday\, November 6th at 12:00 pm to celebrate an expansion of their business.\n\n \n\nThey are located across the street from American Bank & Trust/HyVee
X-ALT-DESC;FMTTYPE=text/html:Crow Valley Dental will be hosting a ribbon cutting on Tuesday\, November 6<sup>th</sup> at 12:00 pm to celebrate an expansion of their business.<br />\n&nbsp\;<br />\nThey are located across the street from American Bank &amp\; Trust/HyVee
LOCATION:4346 E. 53rd Street Davenport\, IA 52807
UID:e.2843.13521
SEQUENCE:3
DTSTAMP:20260423T013603Z
URL:https://member.quadcitieschamber.com/events/details/ribbon-cutting-crow-valley-dental-13521
END:VEVENT

END:VCALENDAR
