BEGIN:VCALENDAR
VERSION:2.0
PRODID:-//ChamberMaster//Event Calendar 2.0//EN
METHOD:PUBLISH
X-PUBLISHED-TTL:P3D
REFRESH-INTERVAL:P3D
CALSCALE:GREGORIAN
BEGIN:VEVENT
DTSTART:20250703T160000Z
DTEND:20250703T170000Z
X-MICROSOFT-CDO-ALLDAYEVENT:FALSE
SUMMARY:Ribbon Cutting - Desi Monk's
DESCRIPTION:Desi Monks will host a ribbon cutting to celebrate their grand opening on Thursday\, July 3\, 2025 at 11:00 AM.  The restaurant is located at 2307 Cumberland Square Dr in Bettendorf\, IA.\n\n \n\nAt Desi Monks\, we are bringing the bold\, authentic flavors of India to the heart of Iowa. Inspired by the warmth of Midwestern hospitality and the rich diversity of Indian cuisine\, we believe great food brings people together whether you're craving something new or something that feels like home.\n\nLocated just off Cumberland Square Dr\, across from the Family Museum in Bettendorf\, Desi Monks is proud to be part of the local community. We're here to share not just meals\, but stories\, traditions\, and experiences.\n\n \n\nFor more information\, please visit Desi Monk's
X-ALT-DESC;FMTTYPE=text/html:<span style="font-family:arial\,sans-serif\;">Desi Monks will host a ribbon cutting to celebrate their grand opening on Thursday\, July 3\, 2025 at 11:00 AM.&nbsp\; The restaurant is located at 2307 Cumberland Square Dr in Bettendorf\, IA.</span><br />\n&nbsp\;<br />\n<span style="font-family:arial\,sans-serif\;">At Desi Monks\, we are bringing the bold\, authentic flavors of India to the heart of Iowa. Inspired by the warmth of Midwestern hospitality and the rich diversity of Indian cuisine\, we believe great food brings people together&mdash\;whether you&#39\;re craving something new or something that feels like home.</span><br />\n<span style="font-family:arial\,sans-serif\;">Located just off Cumberland Square Dr\, across from the Family Museum in Bettendorf\, Desi Monks is proud to be part of the local community. We&#39\;re here to share not just meals\, but stories\, traditions\, and experiences.</span><br />\n&nbsp\;<br />\n<span style="color:#242424\;"><span style="font-family:arial\,sans-serif\;">For more information\, please visit <a href="https://desimonks.com/index.php">Desi Monk&rsquo\;s</a> </span></span><br />\n&nbsp\;<br />\n&nbsp\;
LOCATION:Desi Monk's 2307 Cumberland Square Dr Bettendorf\, IA 52722
UID:e.2843.23968
SEQUENCE:3
DTSTAMP:20260425T031608Z
URL:https://member.quadcitieschamber.com/events/details/ribbon-cutting-desi-monk-s-23968
END:VEVENT

END:VCALENDAR
