BEGIN:VCALENDAR
VERSION:2.0
PRODID:-//ChamberMaster//Event Calendar 2.0//EN
METHOD:PUBLISH
X-PUBLISHED-TTL:P3D
REFRESH-INTERVAL:P3D
CALSCALE:GREGORIAN
BEGIN:VEVENT
DTSTART:20170926T163000Z
DTEND:20170926T170000Z
X-MICROSOFT-CDO-ALLDAYEVENT:FALSE
SUMMARY:Ribbon Cutting - Easy Street Property Investments
DESCRIPTION:Easy Street Property Investments\, 5001 Tremont Ave. Davenport\, IA 52807\, will host a ribbon cutting ceremony on Tuesday\, September 26 at 11:30am to celebrate their grand opening.\n\n \n\nFor more information about Easy Street Property Investments\, click here.
X-ALT-DESC;FMTTYPE=text/html:<span style="font-size:14px\;"><span style="font-family:arial\;">Easy Street Property Investments\, 5001 Tremont Ave. Davenport\, IA 52807\, will host a ribbon cutting ceremony on Tuesday\, September 26 at 11:30am to celebrate their grand opening.<br />\n&nbsp\;<br />\nFor more information about Easy Street Property Investments\, <a href="http://easystreetprops.com/">click here</a>.&nbsp\;</span></span>
LOCATION:Easy Street Property Investments 5001 Tremont Ave. Davenport\, IA 52807
UID:e.2843.7541
SEQUENCE:3
DTSTAMP:20260423T220908Z
URL:https://member.quadcitieschamber.com/events/details/ribbon-cutting-easy-street-property-investments-7541
END:VEVENT

END:VCALENDAR
