BEGIN:VCALENDAR
VERSION:2.0
PRODID:-//ChamberMaster//Event Calendar 2.0//EN
METHOD:PUBLISH
X-PUBLISHED-TTL:P3D
REFRESH-INTERVAL:P3D
CALSCALE:GREGORIAN
BEGIN:VEVENT
DTSTART:20190411T210000Z
DTEND:20190411T213000Z
X-MICROSOFT-CDO-ALLDAYEVENT:FALSE
SUMMARY:Ribbon Cutting - Edwards Creative
DESCRIPTION:Edwards Creative will host a ribbon cutting ceremony on Thursday\, April 11\, at 4:00 pm to celebrate their new expansion. \n\nA public Open House will take place from 4:00   7:00 pm. Snacks and beverages will be available.
X-ALT-DESC;FMTTYPE=text/html:<span style="font-family:calibri\,sans-serif\;"><span style="font-size:11.0pt\;">Edwards Creative will host a ribbon cutting ceremony on Thursday\, April 11\, at 4:00 pm to celebrate their new expansion.&nbsp\;</span></span><br />\n<span style="color: rgb(51\, 51\, 51)\; font-family: calibri\, sans-serif\; font-size: 14.6667px\; background-color: rgb(255\, 255\, 255)\;">A public Open House will take place from 4:00 &ndash\; 7:00 pm. Snacks and beverages will be available.</span>
LOCATION:435 1st Street East Milan\, IL 61264
UID:e.2843.14262
SEQUENCE:3
DTSTAMP:20260422T162750Z
URL:https://member.quadcitieschamber.com/events/details/ribbon-cutting-edwards-creative-14262
END:VEVENT

END:VCALENDAR
