BEGIN:VCALENDAR
VERSION:2.0
PRODID:-//ChamberMaster//Event Calendar 2.0//EN
METHOD:PUBLISH
X-PUBLISHED-TTL:P3D
REFRESH-INTERVAL:P3D
CALSCALE:GREGORIAN
BEGIN:VEVENT
DTSTART:20171109T213000Z
DTEND:20171109T220000Z
X-MICROSOFT-CDO-ALLDAYEVENT:FALSE
SUMMARY:Ribbon Cutting - Elite Lighting Innovations
DESCRIPTION:Elite Lighting Innovations\, 6118 N. Brady St. Davenport\, IA 52806\, will host a ribbon cutting ceremony on Thursday\, November 9 at 3:30pm to celebrate their grand opening. You are invited to enjoy cake and punch in the showroom immediately following the ribbon cutting!\n\n \n\nElite Lighting Innovations is the Quad Cities newest source for decorative light fixtures\, accent lighting\, lamps\, art & accessories! A family-owned business combining 25 years of electrical experience with a background in Interior Design\, Elite Lighting Innovations can help with any lighting project. From residential construction and remodels to small commercial projects like restaurants\, salons and retail shops\, they have all your lighting needs covered!\n\n \n\n**Located on the frontage road off the west side of Brady St situated between Regency Motors and Elite Electric\, just south of the new Menards.
X-ALT-DESC;FMTTYPE=text/html:<span style="font-size:14px\;"><span style="font-family:arial\;">Elite Lighting Innovations\, 6118 N. Brady St. Davenport\, IA 52806\, will host a ribbon cutting ceremony on Thursday\, November 9 at 3:30pm to celebrate their grand opening. You are invited to enjoy cake and punch in the showroom immediately following the ribbon cutting!<br />\n&nbsp\;<br />\nElite Lighting Innovations is the Quad Cities newest source for decorative light fixtures\, accent lighting\, lamps\, art &amp\; accessories! A family-owned business combining 25 years of electrical experience with a background in Interior Design\, Elite Lighting Innovations can help with any lighting project. From residential construction and remodels to small commercial projects like restaurants\, salons and retail shops\, they have all your lighting needs covered!<br />\n&nbsp\;<br />\n**Located on the frontage road off the west side of Brady St situated between Regency Motors and Elite Electric\, just south of the new Menards.</span></span>
LOCATION:Elite Lighting Innovations 6118 N. Brady St. Davenport\, IA 52806 **Located on the frontage road off the west side of Brady St situated between Regency Motors and Elite Electric\, just south of the new Menards.
UID:e.2843.8618
SEQUENCE:3
DTSTAMP:20260423T194848Z
URL:https://member.quadcitieschamber.com/events/details/ribbon-cutting-elite-lighting-innovations-8618
END:VEVENT

END:VCALENDAR
