BEGIN:VCALENDAR
VERSION:2.0
PRODID:-//ChamberMaster//Event Calendar 2.0//EN
METHOD:PUBLISH
X-PUBLISHED-TTL:P3D
REFRESH-INTERVAL:P3D
CALSCALE:GREGORIAN
BEGIN:VEVENT
DTSTART:20190111T200000Z
DTEND:20190111T203000Z
X-MICROSOFT-CDO-ALLDAYEVENT:FALSE
SUMMARY:Ribbon Cutting - Express Employment Professionals
DESCRIPTION:Express Employment Professionals will hold a ribbon cutting ceremony on Friday\, January 11th\, to celebrate their new location. (They are located down Welcome Way\, between Jungle Bungle and Northpark Mall.
X-ALT-DESC;FMTTYPE=text/html:Express Employment Professionals will hold a ribbon cutting ceremony on Friday\, January 11th\, to celebrate their new location. (They are located down Welcome Way\, between Jungle Bungle and Northpark Mall.
LOCATION:171 E. 46th Street Davenport\, IA 52806
UID:e.2843.13704
SEQUENCE:3
DTSTAMP:20260422T214744Z
URL:https://member.quadcitieschamber.com/events/details/ribbon-cutting-express-employment-professionals-13704
END:VEVENT

END:VCALENDAR
