BEGIN:VCALENDAR
VERSION:2.0
PRODID:-//ChamberMaster//Event Calendar 2.0//EN
METHOD:PUBLISH
X-PUBLISHED-TTL:P3D
REFRESH-INTERVAL:P3D
CALSCALE:GREGORIAN
BEGIN:VEVENT
DTSTART:20180709T153000Z
DTEND:20180709T160000Z
X-MICROSOFT-CDO-ALLDAYEVENT:FALSE
SUMMARY:Ribbon Cutting - Fetography Professional Imaging
DESCRIPTION:Fetography Professional Imaging\, 1531 6th Ave. Moline\, IL 61265\, will host a ribbon cutting ceremony at 10:30am on Monday\, July 9 to celebrate the opening of their new studio! \n\n \n\nAbout Fetography Professional Imaging:\n\nWww.fetproimaging.com \n\nEstablished in 2010\, Fetography Portraits LLC was built from the ground up and has become one of the most sought-after wedding and portrait photography providers in the Quad Cities and surrounding areas. In more recent years\, owner\, Mike Fetterer\, has re-branded as Fetography Professional Imaging and expanded his offerings to include photography as well as videography in the commercial sector\, including headshots\, product photography\, public and private events and social media marketing.  \n\nCurrent and past clients include\; Heart Of America\, Rhythm City Casino\, Data Business Equipment\, Denovo\, Greystone Logistics\, the Rock Island County 14th Judicial Circuit and\, most recently\, the Quad Cities Chamber of Commerce during the Quad Cities Big Table. \n\nIn 2016\, Mike earned his UAS (Unmanned Aerial Services) Pilot's license from the FAA in order to provide a multitude of commercial drone services.  Applications for which Mike has used drone technology include creative photography and videography\, aerial property surveys\, 2D & 3D map creation\, real estate sales\, and coming soon\, thermal imaging.
X-ALT-DESC;FMTTYPE=text/html:<span style="font-family:arial\,sans-serif\;">Fetography Professional Imaging\, 1531 6th Ave. Moline\, IL 61265\, will host a ribbon cutting ceremony at 10:30am on Monday\, July 9 to celebrate the opening of their new studio! </span><br />\n&nbsp\;<br />\n<strong><span style="font-family:arial\,sans-serif\;">About Fetography Professional Imaging:</span></strong><br />\n<span style="font-family:arial\,sans-serif\;"><a href="http://Www.fetproimaging.com">Www.fetproimaging.com</a> </span><br />\n<span style="font-family:arial\,sans-serif\;">Established in 2010\, Fetography Portraits LLC was built from the ground up and has become one of the most sought-after wedding and portrait photography providers in the Quad Cities and surrounding areas. In more recent years\, owner\, Mike Fetterer\, has re-branded as Fetography Professional Imaging and expanded his&nbsp\;offerings to include photography as well as videography in the commercial sector\, including headshots\, product photography\, public and private events and social media marketing. &nbsp\;</span><br />\n<span style="font-family:arial\,sans-serif\;">Current and past clients include\; Heart Of America\, Rhythm City Casino\, Data Business Equipment\, Denovo\, Greystone Logistics\, the Rock Island County 14th Judicial Circuit and\, most recently\, the Quad Cities Chamber of Commerce during the Quad Cities Big Table. </span><br />\n<span style="font-family:arial\,sans-serif\;"><span style="font-size:11.0pt\;">In 2016\, Mike earned his UAS (Unmanned Aerial Services) Pilot&rsquo\;s license from the FAA in order to provide a multitude of commercial drone services. &nbsp\;Applications for which Mike has used drone technology include creative photography and videography\, aerial property surveys\,&nbsp\;2D &amp\; 3D map creation\, real estate sales\, and coming soon\,&nbsp\;thermal imaging.</span></span>
LOCATION:Fetography Professional Imaging 1531 6th Ave. Moline\, IL 61265
UID:e.2843.13340
SEQUENCE:3
DTSTAMP:20260423T092157Z
URL:https://member.quadcitieschamber.com/events/details/ribbon-cutting-fetography-professional-imaging-13340
END:VEVENT

END:VCALENDAR
