BEGIN:VCALENDAR
VERSION:2.0
PRODID:-//ChamberMaster//Event Calendar 2.0//EN
METHOD:PUBLISH
X-PUBLISHED-TTL:P3D
REFRESH-INTERVAL:P3D
CALSCALE:GREGORIAN
BEGIN:VEVENT
DTSTART:20180426T210000Z
DTEND:20180426T213000Z
X-MICROSOFT-CDO-ALLDAYEVENT:FALSE
SUMMARY:Ribbon Cutting - First American State Bank
DESCRIPTION:First American State Bank\, 3455 Ave. of the Cities Moline\, IL 61265\, will host a ribbon cutting ceremony on Thursday\, April 26 at 4pm in celebration of their move to a new location!\n\nAn open house will take place 2pm - 5pm.\n\n \n\nFirst American State Bank has served the Quad Cities since 1954! Click here to visit their website.
X-ALT-DESC;FMTTYPE=text/html:<span style="font-size:14px\;"><span style="font-family:arial\;">First American State Bank\, 3455 Ave. of the Cities Moline\, IL 61265\, will host a ribbon cutting ceremony on Thursday\, April 26 at 4pm in celebration of their move to a new location!<br />\nAn open house will take place 2pm - 5pm.<br />\n&nbsp\;<br />\nFirst American State Bank has served the Quad Cities since 1954! <a href="https://www.bankwithfasb.com/fasb/index.htm">Click here</a> to visit their website.</span></span>
LOCATION:First American State Bank 3455 Ave. of the Cities Moline\, IL 61265
UID:e.2843.12150
SEQUENCE:3
DTSTAMP:20260423T123110Z
URL:https://member.quadcitieschamber.com/events/details/ribbon-cutting-first-american-state-bank-12150
END:VEVENT

END:VCALENDAR
