BEGIN:VCALENDAR
VERSION:2.0
PRODID:-//ChamberMaster//Event Calendar 2.0//EN
METHOD:PUBLISH
X-PUBLISHED-TTL:P3D
REFRESH-INTERVAL:P3D
CALSCALE:GREGORIAN
BEGIN:VEVENT
DTSTART:20250818T210000Z
DTEND:20250818T220000Z
X-MICROSOFT-CDO-ALLDAYEVENT:FALSE
SUMMARY:Ribbon Cutting - Fleet Feet Davenport
DESCRIPTION:Fleet Feet Davenport will hold a ribbon cutting to celebrate being named one of the best running stores in the country on Monday\, August 18\, 2025 at 4:00 PM.  The store is located at 4257 Elmore Avenue in Davenport\, IA.\n\n \n\nFleet Feet Davenport has earned a spot among the Best Running Stores in the U.S.   a prestigious recognition that highlights excellence in customer experience\, community involvement\, and innovation.  About the award: The Best Running Stores program honors specialty retailers that go above and beyond in serving their communities\, supporting their staff\, and adapting to the evolving needs of the running industry.  This year\, the program was revamped to reflect those changes\, with updated evaluation criteria developed through conversations with retailers across the country.  Nominated stores completed an in-depth assessment covering employee benefits\, inclusivity\, sustainability\, community engagement\, and innovative business practices.  From there\, the Top 65 stores were chosen and visited twice by secret shoppers\, with a strong focus on in-store experience and customer interaction.  Based on these evaluations\, the 2025 Best Running Stores were selected   and Fleet Feet Davenport is proud to be among them.\n\n \n\nA Great Success Story   Meet Phil & Jackie Young\, the owners of Fleet Feet Davenport.  They've been offering unparalleled service and expertise to the Quad Cities Region since 2016   this has lead to exponential growth year over year.  Striving to build the best team in retail while presenting an unrivaled selection of industry leading product offerings to their customer has remained a relentless passion for the duo.  Fleet Feet Davenport continues to meaningfully engage with an incredible community of runners\, walkers\, on-my-feet-all-day-ers\, and nonprofit entities (in need of strong partners and advocates).  Holding firm to the importance of the right FIT\, be it footwear\, apparel\, accessories\, or a community to belong to has attributed to their great success story.\n\n \n\nFor more information\, please visit Fleet Feet Davenport
X-ALT-DESC;FMTTYPE=text/html:Fleet Feet Davenport will hold a ribbon cutting to celebrate being named one of the best running stores in the country on Monday\, August 18\, 2025 at 4:00 PM.&nbsp\; The store is located at 4257 Elmore Avenue in Davenport\, IA.<br />\n&nbsp\;<br />\nFleet Feet Davenport has earned a spot among the Best Running Stores in the U.S. &ndash\; a prestigious recognition that highlights excellence in customer experience\, community involvement\, and innovation.&nbsp\; About the award: The Best Running Stores program honors specialty retailers that go above and beyond in serving their communities\, supporting their staff\, and adapting to the evolving needs of the running industry.&nbsp\; This year\, the program was revamped to reflect those changes\, with updated evaluation criteria developed through conversations with retailers across the country.&nbsp\; Nominated stores completed an in-depth assessment covering employee benefits\, inclusivity\, sustainability\, community engagement\, and innovative business practices.&nbsp\; From there\, the Top 65 stores were chosen and visited twice by secret shoppers\, with a strong focus on in-store experience and customer interaction.&nbsp\; Based on these evaluations\, the 2025 Best Running Stores were selected &ndash\; and Fleet Feet Davenport is proud to be among them.<br />\n&nbsp\;<br />\nA Great Success Story &ndash\; Meet Phil &amp\; Jackie Young\, the owners of Fleet Feet Davenport.&nbsp\; They&rsquo\;ve been offering unparalleled service and expertise to the Quad Cities Region since 2016 &ndash\; this has lead to exponential growth year over year.&nbsp\; Striving to build the best team in retail while presenting an unrivaled selection of industry leading product offerings to their customer has remained a relentless passion for the duo.&nbsp\; Fleet Feet Davenport continues to meaningfully engage with an incredible community of runners\, walkers\, on-my-feet-all-day-ers\, and nonprofit entities (in need of strong partners and advocates).&nbsp\; Holding firm to the importance of the right FIT\, be it footwear\, apparel\, accessories\, or a community to belong to has attributed to their great success story.<br />\n&nbsp\;<br />\nFor more information\, please visit <a href="https://member.quadcitieschamber.com/list/Member/fleet-feet-57331">Fleet Feet Davenport</a><br />\n&nbsp\;<br />\n&nbsp\;
LOCATION:Fleet Feet Davenport 4257 Elmore Avenue Davenport\, IA 52807
UID:e.2843.24221
SEQUENCE:3
DTSTAMP:20260425T032153Z
URL:https://member.quadcitieschamber.com/events/details/ribbon-cutting-fleet-feet-davenport-24221
END:VEVENT

END:VCALENDAR
