BEGIN:VCALENDAR
VERSION:2.0
PRODID:-//ChamberMaster//Event Calendar 2.0//EN
METHOD:PUBLISH
X-PUBLISHED-TTL:P3D
REFRESH-INTERVAL:P3D
CALSCALE:GREGORIAN
BEGIN:VEVENT
DTSTART:20180223T160000Z
DTEND:20180223T163000Z
X-MICROSOFT-CDO-ALLDAYEVENT:FALSE
SUMMARY:Ribbon Cutting - Fortress Bank
DESCRIPTION:Fortress Bank\, 3260 E. 53rd St. Davenport\, IA 52807\, will host a ribbon cutting ceremony on Friday\, February 23 at 10am to celebrate their grand opening.\n\n \n\n**Located at the former Mimzi Art & Frame building on the corner of E. 53rd and I-74\n\n \n\nClick here to read an article from the Quad-City Times.\n\nYou can visit their website by clicking here.
X-ALT-DESC;FMTTYPE=text/html:<span style="font-size:14px\;"><span style="font-family:arial\;">Fortress Bank\, 3260 E. 53rd St. Davenport\, IA 52807\, will host a ribbon cutting ceremony on Friday\, February 23 at 10am to celebrate their grand opening.<br />\n&nbsp\;<br />\n**Located at the former Mimzi Art &amp\; Frame building on the corner of E. 53<sup>rd</sup> and I-74<br />\n&nbsp\;<br />\nClick <a href="http://qctimes.com/business/fortress-increases-its-services-profile-in-the-q-c/article_9c490af6-230f-5643-98f7-7f7e99328c0b.html">here</a> to read an article from the Quad-City Times.<br />\nYou can visit their website by clicking <a href="https://www.bankfortress.com/central-illinois">here</a>.&nbsp\;</span></span>
LOCATION:Fortress Bank 3260 E. 53rd St. Davenport\, IA 52807 **Located at the former Mimzi Art & Frame building on the corner of E. 53rd and I-74
UID:e.2843.9983
SEQUENCE:3
DTSTAMP:20260423T153014Z
URL:https://member.quadcitieschamber.com/events/details/ribbon-cutting-fortress-bank-9983
END:VEVENT

END:VCALENDAR
