BEGIN:VCALENDAR
VERSION:2.0
PRODID:-//ChamberMaster//Event Calendar 2.0//EN
METHOD:PUBLISH
X-PUBLISHED-TTL:P3D
REFRESH-INTERVAL:P3D
CALSCALE:GREGORIAN
BEGIN:VEVENT
DTSTART:20190830T170000Z
DTEND:20190830T173000Z
X-MICROSOFT-CDO-ALLDAYEVENT:FALSE
SUMMARY:Ribbon Cutting - Fresh Blends
DESCRIPTION:Fresh Blends will host a ribbon cutting ceremony on Friday\, August 30 at noon to celebrate their new location.
X-ALT-DESC;FMTTYPE=text/html:<span style="font-family:arial\;"><span style="font-size:14px\;">Fresh Blends will host a ribbon cutting ceremony on Friday\, August 30 at noon to celebrate their new location.</span></span>
LOCATION:1007 E. Kimberly Road Davenport\, IA 52807
UID:e.2843.16029
SEQUENCE:3
DTSTAMP:20260422T100445Z
URL:https://member.quadcitieschamber.com/events/details/ribbon-cutting-fresh-blends-16029
END:VEVENT

END:VCALENDAR
